BEGIN:VCALENDAR
VERSION:2.0
PRODID:-//ortenaukultur.de//NONSGML kigkonsult.se iCalcreator 2.41.92//
CALSCALE:GREGORIAN
METHOD:PUBLISH
UID:64363838-3264-4535-a461-353064386461
X-WR-TIMEZONE:Europe/Berlin
X-LIC-LOCATION:Europe/Berlin
BEGIN:VEVENT
UID:590218-kulturportal@ortenaukultur.de
DTSTAMP:20260422T004325Z
DESCRIPTION:Kurzbeschreibung:\n Allemanische Musik\, Texte\, Poesie und Poe
 try – von und mit Fidelius & die Waldvögel und Ulrike Derndinger.\n Ort:\n
  Schlachthof - Kinder\, Jugend & Kultur\n Dreyspringstraße 16\, 77933 Lahr
 \n Veranstalter:\n Lahrer Rockwerkstatt e.V. und Schlachthof – Kinder\, Ju
 gend und Kultur gefördert von der Bürgerstiftung Lahr/Reichswaisenhaus 188
 5\n Termin:\n Beginn: 02.05.2026\, 20:00 Uhr\n Ende: 02.05.2026\n Tickets:
 \n Tickets online kaufen\n https://eventfrog.de/de/p/konzert/weitere-musik
 richtungen/highmat-abend-9-0-mund-art-mit-rock-und-poesie-7425236115186022
 033.html\n Vorverkauf: 16\,- / 12\,- (ermäßigt) \, Abendkasse: 19\,- / 16\
 ,- (ermäßigt)\n Link:\n Page détaillée
DTSTART;TZID=Europe/Berlin:20260502T200000
DTEND;TZID=Europe/Berlin:20260502T230000
LOCATION:Schlachthof - Kinder\, Jugend & Kultur\, Dreyspringstraße 16\, 779
 33 Lahr
SUMMARY:HighMat Abend 9.0 mit Fidelius & die Waldvögel + Ulrike Derndinger\
 , Schlachthof - Kinder\, Jugend & Kultur
X-ALT-DESC;FMTTYPE=text/html:<strong>Kurzbeschreibung:</strong><br/>Alleman
 ische Musik\, Texte\, Poesie und Poetry – von und mit Fidelius & die Waldv
 ögel und Ulrike Derndinger.<br /><strong>Ort:</strong><br/>Schlachthof - K
 inder\, Jugend & Kultur<br/>Dreyspringstraße 16\, 77933 Lahr<br /><strong>
 Veranstalter:</strong><br/>Lahrer Rockwerkstatt e.V. und Schlachthof – Kin
 der\, Jugend und Kultur gefördert von der Bürgerstiftung Lahr/Reichswaisen
 haus 1885<br /><strong>Termin:</strong><br/>Beginn: 02.05.2026\, 20:00 Uhr
 <br/>Ende: 02.05.2026<br /><strong>Tickets: </strong><br/><a  class='wco_c
 b_subtitle_link'  id='ticketlink'  href='https://eventfrog.de/de/p/konzert
 /weitere-musikrichtungen/highmat-abend-9-0-mund-art-mit-rock-und-poesie-74
 25236115186022033.html' target='_blank' title='Öffnet externen Link in ein
 em neuen Fenster'>Tickets online kaufen</a><br/>https://eventfrog.de/de/p/
 konzert/weitere-musikrichtungen/highmat-abend-9-0-mund-art-mit-rock-und-po
 esie-7425236115186022033.html<br/>Vorverkauf: 16\,- / 12\,- (ermäßigt) \, 
 Abendkasse: 19\,- / 16\,- (ermäßigt)<br /><strong>Link:</strong><br/><a hr
 ef='https://ortenaukultur.de/fr/evenements/detail/evenement/id/590218-high
 mat-abend-9-0-mit-fidelius-die-waldvoegel-ulrike-derndinger/?vt=1'>Page dé
 taillée </a>
END:VEVENT
END:VCALENDAR
