BEGIN:VCALENDAR
VERSION:2.0
PRODID:-//ortenaukultur.de//NONSGML kigkonsult.se iCalcreator 2.41.92//
CALSCALE:GREGORIAN
METHOD:PUBLISH
UID:39343263-3763-4162-a631-306339323732
X-WR-TIMEZONE:Europe/Berlin
X-LIC-LOCATION:Europe/Berlin
BEGIN:VEVENT
UID:591258-kulturportal@ortenaukultur.de
DTSTAMP:20260422T224702Z
DESCRIPTION:Kurzbeschreibung:\n Der TTC Steinach trägt mit der Sammlung des
  Altpapiers wesentlich zum Umweltschutz bei.\n Ort:\n Ortsteil Steinach\, 
 Niederbach\, Oberbach\, Lachen\, Steinach\n Veranstalter:\n Tischtennisclu
 b\n Termin:\n Beginn: 25.04.2026\n Ende: 25.04.2026\n Link:\n Page détaill
 ée
DTSTART;TZID=Europe/Berlin:20260425T000000
DTEND;TZID=Europe/Berlin:20260425T030000
LOCATION:Ortsteil Steinach\, Niederbach\, Oberbach\, Lachen\, Steinach
SUMMARY:Altpapier Sammlung \, Ortsteil Steinach\, Niederbach\, Oberbach\, L
 achen
X-ALT-DESC;FMTTYPE=text/html:<strong>Kurzbeschreibung:</strong><br/>Der TTC
  Steinach trägt mit der Sammlung des Altpapiers wesentlich zum Umweltschut
 z bei.<br /><strong>Ort:</strong><br/>Ortsteil Steinach\, Niederbach\, Obe
 rbach\, Lachen\, Steinach<br /><strong>Veranstalter:</strong><br/>Tischten
 nisclub<br /><strong>Termin:</strong><br/>Beginn: 25.04.2026<br/>Ende: 25.
 04.2026<br /><strong>Link:</strong><br/><a href='https://ortenaukultur.de/
 fr/evenements/detail/evenement/id/591258-altpapier-sammlung/?vt=1'>Page dé
 taillée </a>
END:VEVENT
END:VCALENDAR
