BEGIN:VCALENDAR
VERSION:2.0
PRODID:-//ortenaukultur.de//NONSGML kigkonsult.se iCalcreator 2.41.92//
CALSCALE:GREGORIAN
METHOD:PUBLISH
UID:64373466-3236-4265-b064-396635303535
X-WR-TIMEZONE:Europe/Berlin
X-LIC-LOCATION:Europe/Berlin
BEGIN:VEVENT
UID:591660-kulturportal@ortenaukultur.de
DTSTAMP:20260422T225014Z
DESCRIPTION:Kurzbeschreibung:\n Grüne Begleiter: Kräuterwanderung mit Agnes
  Vogt\, Wildkräuter - und Heilpflanzenpädagogin\n Ort:\n Grüne Begleiter\n
  Wahlholzstr. 2\, 77728 Oppenau\n Veranstalter:\n Agnes Vogt\n Termin:\n B
 eginn: 08.07.2026\, 19:00 Uhr\n Ende: 08.07.2026\n Tickets:\n Tickets\n 15
 .-€ zzgl. 10.-€ Material\n Link:\n Page détaillée
DTSTART;TZID=Europe/Berlin:20260708T190000
DTEND;TZID=Europe/Berlin:20260708T220000
LOCATION:Grüne Begleiter\, Wahlholzstr. 2\, 77728 Oppenau
SUMMARY:Kraftvolle Heilmittel selber herstellen\, Grüne Begleiter
X-ALT-DESC;FMTTYPE=text/html:<strong>Kurzbeschreibung:</strong><br/>Grüne B
 egleiter: Kräuterwanderung mit Agnes Vogt\, Wildkräuter - und Heilpflanzen
 pädagogin<br /><strong>Ort:</strong><br/>Grüne Begleiter<br/>Wahlholzstr. 
 2\, 77728 Oppenau<br /><strong>Veranstalter:</strong><br/>Agnes Vogt<br />
 <strong>Termin:</strong><br/>Beginn: 08.07.2026\, 19:00 Uhr<br/>Ende: 08.0
 7.2026<br /><strong>Tickets: </strong><br/><a  class='wco_cb_subtitle_link
 '  id='ticketlink'  href='tel:07804 2697' target='_blank' >Tickets</a><br/
 >15.-€ zzgl. 10.-€ Material<br /><strong>Link:</strong><br/><a href='https
 ://ortenaukultur.de/fr/evenements/detail/evenement/id/591660-kraftvolle-he
 ilmittel-selber-herstellen/?vt=1'>Page détaillée </a>
END:VEVENT
END:VCALENDAR
