BEGIN:VCALENDAR
VERSION:2.0
PRODID:-//ortenaukultur.de//NONSGML kigkonsult.se iCalcreator 2.41.92//
CALSCALE:GREGORIAN
METHOD:PUBLISH
UID:39346365-3630-4432-a363-316466633261
X-WR-TIMEZONE:Europe/Berlin
X-LIC-LOCATION:Europe/Berlin
BEGIN:VEVENT
UID:595006-kulturportal@ortenaukultur.de
DTSTAMP:20260421T223657Z
DESCRIPTION:Kurzbeschreibung:\n Jeden ersten Samstag im Monat. Die Practica
  werden mit wechselnden Personen durchgeführt\n Ort:\n KiK -Kultur in der 
 Kaserne Weingartenstr 34c\n Weingartenstraße 34 c\, 77654 Offenburg\n Vera
 nstalter:\n KiK - Kultur in der Kaserne\n Termin:\n Beginn: 02.05.2026\, 2
 0:00 Uhr\n Ende: 02.05.2026\n Link:\n Page détaillée
DTSTART;TZID=Europe/Berlin:20260502T200000
DTEND;TZID=Europe/Berlin:20260502T230000
LOCATION:KiK -Kultur in der Kaserne Weingartenstr 34c\, Weingartenstraße 34
  c\, 77654 Offenburg
SUMMARY:Tango Practica & Milonga \, KiK - Kultur in der Kaserne
X-ALT-DESC;FMTTYPE=text/html:<strong>Kurzbeschreibung:</strong><br/>Jeden e
 rsten Samstag im Monat. Die Practica werden mit wechselnden  Personen durc
 hgeführt<br /><strong>Ort:</strong><br/>KiK -Kultur in der Kaserne Weingar
 tenstr 34c<br/>Weingartenstraße 34 c\, 77654 Offenburg<br /><strong>Verans
 talter:</strong><br/>KiK - Kultur in der Kaserne<br /><strong>Termin:</str
 ong><br/>Beginn: 02.05.2026\, 20:00 Uhr<br/>Ende: 02.05.2026<br /><strong>
 Link:</strong><br/><a href='https://ortenaukultur.de/fr/evenements/detail/
 evenement/id/595006-tango-practica-milonga/?vt=1'>Page détaillée </a>
END:VEVENT
END:VCALENDAR
