BEGIN:VCALENDAR
VERSION:2.0
PRODID:-//ortenaukultur.de//NONSGML kigkonsult.se iCalcreator 2.41.92//
CALSCALE:GREGORIAN
METHOD:PUBLISH
UID:65616363-3665-4763-a362-666233653931
X-WR-TIMEZONE:Europe/Berlin
X-LIC-LOCATION:Europe/Berlin
BEGIN:VEVENT
UID:595037-kulturportal@ortenaukultur.de
DTSTAMP:20260422T231118Z
DESCRIPTION:Kurzbeschreibung:\n Unter dem Licht des Vollmonds entfaltet sic
 h in Ettenheim eine besondere Atmosphäre.\n Blitzinfo:\n ausgebucht\n Ort:
 \n Marienbrunnen (Am Marienbrunnen 1)\, Ettenheim\n Veranstalter:\n Stadt 
 Ettenheim (LS)\n Termin:\n Beginn: 02.05.2026\, 20:00 Uhr\n Ende: 02.05.20
 26\n Tickets:\n 7\,- € pro Person (nicht für Kinder geeignet)\n Anmeldung 
 erforderlich im Rathaus - Bürgerbüro oder unter tourist-info@ettenheim.de
 \n Link:\n Page détaillée
DTSTART;TZID=Europe/Berlin:20260502T200000
DTEND;TZID=Europe/Berlin:20260502T230000
LOCATION:Marienbrunnen (Am Marienbrunnen 1)\, Ettenheim
SUMMARY:Vollmondführung durch die Ettenheimer Innenstadt\, Marienbrunnen (A
 m Marienbrunnen 1)
X-ALT-DESC;FMTTYPE=text/html:<strong>Kurzbeschreibung:</strong><br/>Unter d
 em Licht des Vollmonds entfaltet sich in Ettenheim eine besondere Atmosphä
 re. <br /><strong>Blitzinfo:</strong><br/>ausgebucht<br /><strong>Ort:</st
 rong><br/>Marienbrunnen (Am Marienbrunnen 1)\, Ettenheim<br /><strong>Vera
 nstalter:</strong><br/>Stadt Ettenheim (LS)<br /><strong>Termin:</strong><
 br/>Beginn: 02.05.2026\, 20:00 Uhr<br/>Ende: 02.05.2026<br /><strong>Ticke
 ts: </strong><br/>7\,- € pro Person (nicht für Kinder geeignet)<br />\nAnm
 eldung erforderlich im Rathaus -  Bürgerbüro oder unter tourist-info@etten
 heim.de<br /><strong>Link:</strong><br/><a href='https://ortenaukultur.de/
 fr/evenements/detail/evenement/id/595037-vollmondfuehrung-durch-die-ettenh
 eimer-innenstadt/?vt=1'>Page détaillée </a>
END:VEVENT
END:VCALENDAR
