BEGIN:VCALENDAR
VERSION:2.0
PRODID:-//ortenaukultur.de//NONSGML kigkonsult.se iCalcreator 2.41.92//
CALSCALE:GREGORIAN
METHOD:PUBLISH
UID:37663430-6564-4366-b935-353862613961
X-WR-TIMEZONE:Europe/Berlin
X-LIC-LOCATION:Europe/Berlin
BEGIN:VEVENT
UID:595039-kulturportal@ortenaukultur.de
DTSTAMP:20260421T223945Z
DESCRIPTION:Kurzbeschreibung:\n Freuen Sie sich auf schwungvolle Blasmusik:
  Polkas\, Walzer und Märsche im unverwechselbaren böhmischen Stil. Gerolds
 auer Mühle\, Geroldsauer Straße 54\n Ort:\n Geroldsauer Mühle\, Geroldsaue
 r Straße 54\, 76534 Baden-Baden\, Baden-Baden\n Veranstalter:\n Gasthaus G
 eroldsauer Mühle\n Termin:\n Beginn: 26.04.2026\, 14:00 Uhr\n Ende: 26.04.
 2026\n Tickets:\n Eintritt frei\n Eintritt frei\n Link:\n Page détaillée
DTSTART;TZID=Europe/Berlin:20260426T140000
DTEND;TZID=Europe/Berlin:20260426T170000
LOCATION:Geroldsauer Mühle\, Geroldsauer Straße 54\, 76534 Baden-Baden\, Ba
 den-Baden
SUMMARY:Konzert der Orginal Rebländer Blasmusik in der Geroldsauer Mühle\, 
 Geroldsauer Mühle\, Geroldsauer Straße 54\, 76534 Baden-Baden
X-ALT-DESC;FMTTYPE=text/html:<strong>Kurzbeschreibung:</strong><br/>Freuen 
 Sie sich auf schwungvolle Blasmusik: Polkas\, Walzer und Märsche im unverw
 echselbaren böhmischen Stil.  Geroldsauer Mühle\, Geroldsauer Straße 54<br
  /><strong>Ort:</strong><br/>Geroldsauer Mühle\, Geroldsauer Straße 54\, 7
 6534 Baden-Baden\, Baden-Baden<br /><strong>Veranstalter:</strong><br/>Gas
 thaus Geroldsauer Mühle<br /><strong>Termin:</strong><br/>Beginn: 26.04.20
 26\, 14:00 Uhr<br/>Ende: 26.04.2026<br /><strong>Tickets: </strong><br/>Ei
 ntritt frei<br/>Eintritt frei<br /><strong>Link:</strong><br/><a href='htt
 ps://ortenaukultur.de/fr/evenements/detail/evenement/id/595039-konzert-der
 -orginal-reblaender-blasmusik-in-der-geroldsauer-muehle/?vt=1'>Page détail
 lée </a>
END:VEVENT
END:VCALENDAR
