BEGIN:VCALENDAR
VERSION:2.0
PRODID:-//ortenaukultur.de//NONSGML kigkonsult.se iCalcreator 2.41.92//
CALSCALE:GREGORIAN
METHOD:PUBLISH
UID:36313733-3731-4435-a566-623137343731
X-WR-TIMEZONE:Europe/Berlin
X-LIC-LOCATION:Europe/Berlin
BEGIN:VEVENT
UID:595096-kulturportal@ortenaukultur.de
DTSTAMP:20260423T015614Z
DESCRIPTION:Kurzbeschreibung:\n Die beliebte Konzertreihe am Altrhein finde
 t in diesem Sommer wieder jeden Samstag von Anfang August bis Anfang Septe
 mber statt.\n Ort:\n Seebühne im Rosengarten\, bei schlechtem Wetter in de
 r Stadthalle\n Jahnstraße\, 77694 Kehl\n Veranstalter:\n Kulturbüro Kehl\n
  Termin:\n Beginn: 01.08.2026\, 19:30 Uhr\n Ende: 01.08.2026\n Tickets:\n 
 Eintritt frei\n Link:\n Page détaillée
DTSTART;TZID=Europe/Berlin:20260801T193000
DTEND;TZID=Europe/Berlin:20260801T223000
LOCATION:Seebühne im Rosengarten\, bei schlechtem Wetter in der Stadthalle\
 , Jahnstraße\, 77694 Kehl
SUMMARY:Kultursommer im Rosengarten\, Seebühne im Rosengarten\, bei schlech
 tem Wetter in der Stadthalle
X-ALT-DESC;FMTTYPE=text/html:<strong>Kurzbeschreibung:</strong><br/>Die bel
 iebte Konzertreihe am Altrhein findet in diesem Sommer wieder jeden Samsta
 g von Anfang August  bis Anfang September statt.<br /><strong>Ort:</strong
 ><br/>Seebühne im Rosengarten\, bei schlechtem Wetter in der Stadthalle<br
 />Jahnstraße\, 77694 Kehl<br /><strong>Veranstalter:</strong><br/>Kulturbü
 ro Kehl<br /><strong>Termin:</strong><br/>Beginn: 01.08.2026\, 19:30 Uhr<b
 r/>Ende: 01.08.2026<br /><strong>Tickets: </strong><br/>Eintritt frei<br /
 ><strong>Link:</strong><br/><a href='https://ortenaukultur.de/fr/evenement
 s/detail/evenement/id/595096-kultursommer-im-rosengarten/?vt=1'>Page détai
 llée </a>
END:VEVENT
END:VCALENDAR
