BEGIN:VCALENDAR
VERSION:2.0
PRODID:-//ortenaukultur.de//NONSGML kigkonsult.se iCalcreator 2.41.92//
CALSCALE:GREGORIAN
METHOD:PUBLISH
UID:63346537-3062-4164-b331-316430386635
X-WR-TIMEZONE:Europe/Berlin
X-LIC-LOCATION:Europe/Berlin
BEGIN:VEVENT
UID:595177-kulturportal@ortenaukultur.de
DTSTAMP:20260421T212632Z
DESCRIPTION:Kurzbeschreibung:\n Am Sonntag\, 03.05.2026 werden die Plätze a
 uf der neu sanierten Tennisanlage feierlich eröffnet.\n Ort:\n Tennisclub 
 Schenkenzell Tennisanlage\n Am Bühlhof 5\, 77773 Schenkenzell\n Veranstalt
 er:\n Tennisclub Schenkenzell\n Termin:\n Beginn: 03.05.2026\, 10:30 Uhr\n
  Ende: 03.05.2026\n Link:\n Page détaillée
DTSTART;TZID=Europe/Berlin:20260503T103000
DTEND;TZID=Europe/Berlin:20260503T133000
LOCATION:Tennisclub Schenkenzell Tennisanlage\, Am Bühlhof 5\, 77773 Schenk
 enzell
SUMMARY:Feierliche Platzeröffnung Tennisclub Schenkenzell\, Tennisclub Sche
 nkenzell Tennisanlage
X-ALT-DESC;FMTTYPE=text/html:<strong>Kurzbeschreibung:</strong><br/>Am Sonn
 tag\, 03.05.2026 werden die Plätze auf der neu sanierten Tennisanlage feie
 rlich eröffnet.<br /><strong>Ort:</strong><br/>Tennisclub Schenkenzell Ten
 nisanlage<br/>Am Bühlhof 5\, 77773 Schenkenzell<br /><strong>Veranstalter:
 </strong><br/>Tennisclub Schenkenzell<br /><strong>Termin:</strong><br/>Be
 ginn: 03.05.2026\, 10:30 Uhr<br/>Ende: 03.05.2026<br /><strong>Link:</stro
 ng><br/><a href='https://ortenaukultur.de/fr/evenements/detail/evenement/i
 d/595177-feierliche-platzeroeffnung-tennisclub-schenkenzell/?vt=1'>Page dé
 taillée </a>
END:VEVENT
END:VCALENDAR
