BEGIN:VCALENDAR
VERSION:2.0
PRODID:-//ortenaukultur.de//NONSGML kigkonsult.se iCalcreator 2.41.92//
CALSCALE:GREGORIAN
METHOD:PUBLISH
UID:38613736-3361-4135-b633-383063333935
X-WR-TIMEZONE:Europe/Berlin
X-LIC-LOCATION:Europe/Berlin
BEGIN:VEVENT
UID:134161-kulturportal@ortenaukultur.de
DTSTAMP:20260422T102632Z
DESCRIPTION:Kurzbeschreibung:\n Die Führung gewährt Einblicke in die Umgest
 altung der Stiftkirche als Folge der Reformation und die bemerkenswerte Ge
 schichte der Silbermann-Orgel.\n Ort:\n Eingang Stiftskirche\, Bei der Sti
 ftskirche 2\n Bei der Stiftskirche 1\, 77933 Lahr\n Veranstalter:\n Stadt 
 Lahr\n Termin:\n Beginn: 30.05.2026\, 15:00 Uhr\n Ende: 30.05.2026\n Ticke
 ts:\n Tickets direkt beim Stadtführer erhältlich\n https://erlebe.lahr.de/
 oeffentliche-fuehrungen-buchen.274465.htm#/experience/FIT00020072641139137
 \n Die Führung kostet 5 Euro pro Person.\n \n Link:\n Page détaillée
DTSTART;TZID=Europe/Berlin:20260530T150000
DTEND;TZID=Europe/Berlin:20260530T180000
LOCATION:Eingang Stiftskirche\, Bei der Stiftskirche 2\, Bei der Stiftskirc
 he 1\, 77933 Lahr
SUMMARY:Die Stiftskirche - Wie ein Gang durch die Geschichte Lahrs\, Stifts
 kirche
X-ALT-DESC;FMTTYPE=text/html:<strong>Kurzbeschreibung:</strong><br/>Die Füh
 rung gewährt Einblicke in die Umgestaltung der Stiftkirche als Folge der R
 eformation und die bemerkenswerte Geschichte der Silbermann-Orgel.<br /><s
 trong>Ort:</strong><br/>Eingang Stiftskirche\, Bei der Stiftskirche 2<br/>
 Bei der Stiftskirche 1\, 77933 Lahr<br /><strong>Veranstalter:</strong><br
 />Stadt Lahr<br /><strong>Termin:</strong><br/>Beginn: 30.05.2026\, 15:00 
 Uhr<br/>Ende: 30.05.2026<br /><strong>Tickets: </strong><br/><a  class='wc
 o_cb_subtitle_link'  id='ticketlink'  href='https://erlebe.lahr.de/oeffent
 liche-fuehrungen-buchen.274465.htm#/experience/FIT00020072641139137' targe
 t='_blank' title='Öffnet externen Link in einem neuen Fenster'>Tickets dir
 ekt beim Stadtführer erhältlich</a><br/>https://erlebe.lahr.de/oeffentlich
 e-fuehrungen-buchen.274465.htm#/experience/FIT00020072641139137<br/>Die Fü
 hrung kostet 5 Euro pro Person.<br />\n<br /><strong>Link:</strong><br/><a
  href='https://ortenaukultur.de/fr/evenements/detail/evenement/id/134161-d
 ie-stiftskirche-wie-ein-gang-durch-die-geschichte-lahrs/?vt=1'>Page détail
 lée </a>
END:VEVENT
END:VCALENDAR
