BEGIN:VCALENDAR
VERSION:2.0
PRODID:-//ortenaukultur.de//NONSGML kigkonsult.se iCalcreator 2.41.92//
CALSCALE:GREGORIAN
METHOD:PUBLISH
UID:34303564-3938-4432-b839-346166313834
X-WR-TIMEZONE:Europe/Berlin
X-LIC-LOCATION:Europe/Berlin
BEGIN:VEVENT
UID:506941-kulturportal@ortenaukultur.de
DTSTAMP:20260422T082534Z
DESCRIPTION:Kurzbeschreibung:\n Führung im Besucherbergwerk - Weinverkostun
 g durch die Weinmanufaktur Gengenbach\n Ort:\n Besucherbergwerk Grube Wenz
 el\n Frohnbach 19\, 77709 Oberwolfach\n Veranstalter:\n Grube Wenzel\n Ter
 min:\n Beginn: 25.09.2026\, 18:30 Uhr\n Ende: 25.09.2026\n Link:\n Page dé
 taillée
DTSTART;TZID=Europe/Berlin:20260925T183000
DTEND;TZID=Europe/Berlin:20260925T213000
LOCATION:Besucherbergwerk Grube Wenzel\, Frohnbach 19\, 77709 Oberwolfach
SUMMARY:Wein & Bergbau in der Grube Wenzel \, Besucherbergwerk Grube Wenzel
X-ALT-DESC;FMTTYPE=text/html:<strong>Kurzbeschreibung:</strong><br/>Führung
  im Besucherbergwerk - Weinverkostung durch die Weinmanufaktur Gengenbach<
 br /><strong>Ort:</strong><br/>Besucherbergwerk Grube Wenzel<br/>Frohnbach
  19\, 77709  Oberwolfach<br /><strong>Veranstalter:</strong><br/>Grube Wen
 zel<br /><strong>Termin:</strong><br/>Beginn: 25.09.2026\, 18:30 Uhr<br/>E
 nde: 25.09.2026<br /><strong>Link:</strong><br/><a href='https://ortenauku
 ltur.de/fr/evenements/detail/evenement/id/506941-wein-bergbau-in-der-grube
 -wenzel/?vt=1'>Page détaillée </a>
END:VEVENT
END:VCALENDAR
