BEGIN:VCALENDAR
VERSION:2.0
PRODID:-//ortenaukultur.de//NONSGML kigkonsult.se iCalcreator 2.41.92//
CALSCALE:GREGORIAN
METHOD:PUBLISH
UID:62353933-6565-4639-a331-663564636533
X-WR-TIMEZONE:Europe/Berlin
X-LIC-LOCATION:Europe/Berlin
BEGIN:VEVENT
UID:507286-kulturportal@ortenaukultur.de
DTSTAMP:20260422T192432Z
DESCRIPTION:Kurzbeschreibung:\n Eine Whiskyprobe der besonderen Art im Besu
 cherbergwerk Grube Wenzel in Oberwolfach\n Ort:\n Besucherbergwerk Grube W
 enzel\n Frohnbach 19\, 77709 Oberwolfach\n Veranstalter:\n Grube Wenzel\n 
 Termin:\n Beginn: 16.10.2026\, 18:30 Uhr\n Ende: 16.10.2026\n Link:\n Page
  détaillée
DTSTART;TZID=Europe/Berlin:20261016T183000
DTEND;TZID=Europe/Berlin:20261016T213000
LOCATION:Besucherbergwerk Grube Wenzel\, Frohnbach 19\, 77709 Oberwolfach
SUMMARY:Whisky & Bergbau im Besucherbergwerk Grube Wenzel\, Besucherbergwer
 k Grube Wenzel
X-ALT-DESC;FMTTYPE=text/html:<strong>Kurzbeschreibung:</strong><br/>Eine Wh
 iskyprobe der besonderen Art im Besucherbergwerk Grube Wenzel in Oberwolfa
 ch<br /><strong>Ort:</strong><br/>Besucherbergwerk Grube Wenzel<br/>Frohnb
 ach 19\, 77709  Oberwolfach<br /><strong>Veranstalter:</strong><br/>Grube 
 Wenzel<br /><strong>Termin:</strong><br/>Beginn: 16.10.2026\, 18:30 Uhr<br
 />Ende: 16.10.2026<br /><strong>Link:</strong><br/><a href='https://ortena
 ukultur.de/fr/evenements/detail/evenement/id/507286-whisky-bergbau-im-besu
 cherbergwerk-grube-wenzel/?vt=1'>Page détaillée </a>
END:VEVENT
END:VCALENDAR
