BEGIN:VCALENDAR
VERSION:2.0
PRODID:-//ortenaukultur.de//NONSGML kigkonsult.se iCalcreator 2.41.92//
CALSCALE:GREGORIAN
METHOD:PUBLISH
UID:35373635-6363-4634-b362-396462343433
X-WR-TIMEZONE:Europe/Berlin
X-LIC-LOCATION:Europe/Berlin
BEGIN:VEVENT
UID:536517-kulturportal@ortenaukultur.de
DTSTAMP:20260422T091332Z
DESCRIPTION:Kurzbeschreibung:\n Alte Freunde treffen\, neue Kontakte knüpfe
 n\, diesmal im Elsass. Wandern mit den Niedernaiern! Info: Herbert Vollmer
 \, 07838 96969. Treffpunkt Kirchplatz.\n Ort:\n Niedernai\n Rue du Château
 \, Niedern Nordrach\n Veranstalter:\n Freundeskreis Niedernai-Nordrach\n T
 ermin:\n Beginn: 23.05.2026\n Ende: 23.05.2026\n Link:\n Page détaillée
DTSTART;TZID=Europe/Berlin:20260523T000000
DTEND;TZID=Europe/Berlin:20260523T030000
LOCATION:Niedernai\, Rue du Château\, Niedern Nordrach
SUMMARY:Partnerschaftswanderung bei der Hochkönigsburg\, Niedernai
X-ALT-DESC;FMTTYPE=text/html:<strong>Kurzbeschreibung:</strong><br/>Alte Fr
 eunde treffen\, neue Kontakte knüpfen\, diesmal im Elsass. Wandern mit den
  Niedernaiern! Info: Herbert Vollmer\, 07838 96969. Treffpunkt Kirchplatz.
 <br /><strong>Ort:</strong><br/>Niedernai<br/>Rue  du Château\, Niedern No
 rdrach<br /><strong>Veranstalter:</strong><br/>Freundeskreis Niedernai-Nor
 drach<br /><strong>Termin:</strong><br/>Beginn: 23.05.2026<br/>Ende: 23.05
 .2026<br /><strong>Link:</strong><br/><a href='https://ortenaukultur.de/fr
 /evenements/detail/evenement/id/536517-partnerschaftswanderung-bei-der-hoc
 hkoenigsburg/?vt=1'>Page détaillée </a>
END:VEVENT
END:VCALENDAR
