BEGIN:VCALENDAR
VERSION:2.0
PRODID:-//ortenaukultur.de//NONSGML kigkonsult.se iCalcreator 2.41.92//
CALSCALE:GREGORIAN
METHOD:PUBLISH
UID:64383138-6234-4465-b433-376166386637
X-WR-TIMEZONE:Europe/Berlin
X-LIC-LOCATION:Europe/Berlin
BEGIN:VEVENT
UID:557479-kulturportal@ortenaukultur.de
DTSTAMP:20260422T021949Z
DESCRIPTION:Kurzbeschreibung:\n Bei dieser Führung werden das Modell der „F
 estung Kehl“ von Julius Gutekunst in der Stadthalle und Kehls historischer
  Gewölbekeller besichtigt\n Ort:\n Innenstadt\n Marktplatz / Hauptstraße\,
  77694 Kehl\n Veranstalter:\n Kehl Marketing GmbH\n Termin:\n Beginn: 11.0
 6.2026\n Ende: 11.06.2026\n Tickets:\n Tickets\n https://kehl-marketing-gm
 bh.reservix.de/events\n 16\,90€\n Link:\n Page détaillée
DTSTART;TZID=Europe/Berlin:20260611T000000
DTEND;TZID=Europe/Berlin:20260611T030000
LOCATION:Innenstadt\, Marktplatz / Hauptstraße\, 77694 Kehl
SUMMARY:Führung 'Kehl der große Rundgang'\, Innenstadt
X-ALT-DESC;FMTTYPE=text/html:<strong>Kurzbeschreibung:</strong><br/>Bei die
 ser Führung werden das Modell der „Festung Kehl“ von Julius Gutekunst in d
 er Stadthalle und Kehls historischer Gewölbekeller besichtigt<br /><strong
 >Ort:</strong><br/>Innenstadt<br/>Marktplatz / Hauptstraße\, 77694 Kehl<br
  /><strong>Veranstalter:</strong><br/>Kehl Marketing GmbH<br /><strong>Ter
 min:</strong><br/>Beginn: 11.06.2026<br/>Ende: 11.06.2026<br /><strong>Tic
 kets: </strong><br/><a  class='wco_cb_subtitle_link'  id='ticketlink'  hre
 f='https://kehl-marketing-gmbh.reservix.de/events' target='_blank' title='
 https://kehl-marketing-gmbh.reservix.de/events'>Tickets</a><br/>https://ke
 hl-marketing-gmbh.reservix.de/events<br/>16\,90€<br /><strong>Link:</stron
 g><br/><a href='https://ortenaukultur.de/fr/evenements/detail/evenement/id
 /557479-fuehrung-kehl-der-grosse-rundgang/?vt=1'>Page détaillée </a>
END:VEVENT
END:VCALENDAR
