BEGIN:VCALENDAR
VERSION:2.0
PRODID:-//ortenaukultur.de//NONSGML kigkonsult.se iCalcreator 2.41.92//
CALSCALE:GREGORIAN
METHOD:PUBLISH
UID:61383739-6539-4161-a330-636430306537
X-WR-TIMEZONE:Europe/Berlin
X-LIC-LOCATION:Europe/Berlin
BEGIN:VEVENT
UID:567664-kulturportal@ortenaukultur.de
DTSTAMP:20260423T032919Z
DESCRIPTION:Kurzbeschreibung:\n Das denkmalgeschützte Café „Süßes Löchle“ w
 urde von den heutigen Inhabern Adelheid und Roland Wagner mit großem Engag
 ement von Grund auf erneuert.\n Ort:\n Friedrichstraße 14\, Urteilsplatz\n
  Friedrichstraße 14\, 77933 Lahr\n Veranstalter:\n Stadt Lahr Stadtmarketi
 ng\n Termin:\n Beginn: 09.07.2026\, 16:00 Uhr\n Ende: 09.07.2026\n Tickets
 :\n \n https://erlebe.lahr.de/oeffentliche-fuehrungen-buchen.274465.htm#/e
 xperience/FIT00020072495575530\n € 18\,00\n Link:\n Page détaillée
DTSTART;TZID=Europe/Berlin:20260709T160000
DTEND;TZID=Europe/Berlin:20260709T190000
LOCATION:Friedrichstraße 14\, Urteilsplatz\, Friedrichstraße 14\, 77933 Lah
 r
SUMMARY:Das Café Süßes Löchle\, Café Süßes Löchle
X-ALT-DESC;FMTTYPE=text/html:<strong>Kurzbeschreibung:</strong><br/>Das den
 kmalgeschützte Café „Süßes Löchle“ wurde von den heutigen Inhabern Adelhei
 d und Roland Wagner mit großem Engagement von Grund auf erneuert.<br /><st
 rong>Ort:</strong><br/>Friedrichstraße 14\, Urteilsplatz<br/>Friedrichstra
 ße 14\, 77933 Lahr<br /><strong>Veranstalter:</strong><br/>Stadt Lahr Stad
 tmarketing<br /><strong>Termin:</strong><br/>Beginn: 09.07.2026\, 16:00 Uh
 r<br/>Ende: 09.07.2026<br /><strong>Tickets: </strong><br/><a  class='wco_
 cb_subtitle_link'  id='ticketlink'  href='https://erlebe.lahr.de/oeffentli
 che-fuehrungen-buchen.274465.htm#/experience/FIT00020072495575530' target=
 '_blank' title='Öffnet externen Link in einem neuen Fenster'></a><br/>http
 s://erlebe.lahr.de/oeffentliche-fuehrungen-buchen.274465.htm#/experience/F
 IT00020072495575530<br/>€ 18\,00 <br /><strong>Link:</strong><br/><a href=
 'https://ortenaukultur.de/fr/evenements/detail/evenement/id/567664-das-caf
 e-suesses-loechle/?vt=1'>Page détaillée </a>
END:VEVENT
END:VCALENDAR
