BEGIN:VCALENDAR
VERSION:2.0
PRODID:-//ortenaukultur.de//NONSGML kigkonsult.se iCalcreator 2.41.92//
CALSCALE:GREGORIAN
METHOD:PUBLISH
UID:38623937-3334-4661-a531-393937633131
X-WR-TIMEZONE:Europe/Berlin
X-LIC-LOCATION:Europe/Berlin
BEGIN:VEVENT
UID:570638-kulturportal@ortenaukultur.de
DTSTAMP:20260423T051904Z
DESCRIPTION:Kurzbeschreibung:\n Die beiden „Partner in Creativity“ stürzen 
 sich wieder voller Neugier und Tatendrang in die internationale und genreü
 bergreifende Musikszene.\n Ort:\n Kulturforum Illenau\n Illenauer Allee 77
 \, 77855 Achern\n Veranstalter:\n Stadt Achern - FG 3.3 Kultur\n Termin:\n
  Beginn: 23.04.2026\, 19:30 Uhr\n Ende: 23.04.2026\n Tickets:\n Achat de b
 illets\n https://ortenaukultur.reservix.de/p/reservix/event/2417525\n Einh
 eitspreis:\n jusqu'à 20\,00 € + Réduction\n *Toute taxe comprise\n \n Link
 :\n Page détaillée
DTSTART;TZID=Europe/Berlin:20260423T193000
DTEND;TZID=Europe/Berlin:20260423T223000
LOCATION:Kulturforum Illenau \, Illenauer Allee 77\, 77855 Achern
SUMMARY:Atrin Madani & Paul Hankinson\, Kulturforum Illenau
X-ALT-DESC;FMTTYPE=text/html:<strong>Kurzbeschreibung:</strong><br/>Die bei
 den „Partner in Creativity“ stürzen sich wieder voller Neugier und Tatendr
 ang in die internationale und genreübergreifende Musikszene.<br /><strong>
 Ort:</strong><br/>Kulturforum Illenau  <br/>Illenauer Allee 77\, 77855 Ach
 ern<br /><strong>Veranstalter:</strong><br/>Stadt Achern - FG 3.3 Kultur<b
 r /><strong>Termin:</strong><br/>Beginn: 23.04.2026\, 19:30 Uhr<br/>Ende: 
 23.04.2026<br /><strong>Tickets: </strong><br/><a rel='asdf' href='https:/
 /ortenaukultur.de/fr/evenements/education/detail/billets/id/570638-atrin-m
 adani-paul-hankinson/?follow=https%253A%252F%252Fortenaukultur.reservix.de
 %252Fp%252Freservix%252Fevent%252F2417525' target='_blank' title='' id='ti
 cketlink'>Achat de billets</a><br/>https://ortenaukultur.reservix.de/p/res
 ervix/event/2417525<br/><b>Einheitspreis: </b><br />jusqu&#039\;à 20\,00 &
 euro\;&nbsp\; + Réduction<br />*Toute taxe comprise<br /><br /><strong>Lin
 k:</strong><br/><a href='https://ortenaukultur.de/fr/evenements/detail/eve
 nement/id/570638-atrin-madani-paul-hankinson/?vt=1'>Page détaillée </a>
END:VEVENT
END:VCALENDAR
