BEGIN:VCALENDAR
VERSION:2.0
PRODID:-//ortenaukultur.de//NONSGML kigkonsult.se iCalcreator 2.41.92//
CALSCALE:GREGORIAN
METHOD:PUBLISH
UID:30653465-6535-4261-a461-383265623333
X-WR-TIMEZONE:Europe/Berlin
X-LIC-LOCATION:Europe/Berlin
BEGIN:VEVENT
UID:581249-kulturportal@ortenaukultur.de
DTSTAMP:20260422T023130Z
DESCRIPTION:Kurzbeschreibung:\n ADFC-Radtour an der Rench 'Auf den Spuren v
 on Grimmelshausen' zum Simplicissimus -Haus in Renchen\n Ort:\n Treffpunkt
 : Altes Rathaus\n Hauptstraße 32\, 77704 Oberkirch\n Veranstalter:\n ADFC
 \n Termin:\n Beginn: 07.06.2026\, 14:00 Uhr\n Ende: 07.06.2026\n Link:\n P
 age détaillée
DTSTART;TZID=Europe/Berlin:20260607T140000
DTEND;TZID=Europe/Berlin:20260607T170000
LOCATION:Treffpunkt: Altes Rathaus\, Hauptstraße 32\, 77704 Oberkirch
SUMMARY:ADFC-Radtour 'Auf den Spuren von Grimmelshausen' \, Altes Rathaus
X-ALT-DESC;FMTTYPE=text/html:<strong>Kurzbeschreibung:</strong><br/>ADFC-Ra
 dtour an der Rench 'Auf den Spuren von Grimmelshausen' zum Simplicissimus 
 -Haus in Renchen<br /><strong>Ort:</strong><br/>Treffpunkt: Altes Rathaus<
 br/>Hauptstraße 32\, 77704 Oberkirch<br /><strong>Veranstalter:</strong><b
 r/>ADFC<br /><strong>Termin:</strong><br/>Beginn: 07.06.2026\, 14:00 Uhr<b
 r/>Ende: 07.06.2026<br /><strong>Link:</strong><br/><a href='https://orten
 aukultur.de/fr/evenements/detail/evenement/id/581249-adfc-radtour-auf-den-
 spuren-von-grimmelshausen/?vt=1'>Page détaillée </a>
END:VEVENT
END:VCALENDAR
