BEGIN:VCALENDAR
VERSION:2.0
PRODID:-//ortenaukultur.de//NONSGML kigkonsult.se iCalcreator 2.41.92//
CALSCALE:GREGORIAN
METHOD:PUBLISH
UID:61356238-3662-4630-b463-313637613766
X-WR-TIMEZONE:Europe/Berlin
X-LIC-LOCATION:Europe/Berlin
BEGIN:VEVENT
UID:581589-kulturportal@ortenaukultur.de
DTSTAMP:20260422T223434Z
DESCRIPTION:Kurzbeschreibung:\n Die kreative Veranstaltungsreihe der Mediat
 hek für Erwachsene. Egal ob Häkeln\, Malen\, Nähen\, Sticken\, Stricken\, 
 Zeichnen oder oder oder...\n Ort:\n Mediathek\n Hornisgrindestraße 2\, 777
 31 Willstätt\n Veranstalter:\n Mediathek Willstätt\n Termin:\n Beginn: 18.
 08.2026\, 16:00 Uhr\n Ende: 18.08.2026\n Tickets:\n Der Eintritt ist frei\
 , eine Anmeldung ist nicht erforderlich.\n Link:\n Page détaillée
DTSTART;TZID=Europe/Berlin:20260818T160000
DTEND;TZID=Europe/Berlin:20260818T190000
LOCATION:Mediathek\, Hornisgrindestraße 2\, 77731 Willstätt
SUMMARY:Kreative Doppelstunde\, Mediathek
X-ALT-DESC;FMTTYPE=text/html:<strong>Kurzbeschreibung:</strong><br/>Die kre
 ative Veranstaltungsreihe der Mediathek für Erwachsene. Egal ob Häkeln\, M
 alen\, Nähen\, Sticken\, Stricken\, Zeichnen oder oder oder...<br /><stron
 g>Ort:</strong><br/>Mediathek<br/>Hornisgrindestraße 2\, 77731 Willstätt<b
 r /><strong>Veranstalter:</strong><br/>Mediathek Willstätt<br /><strong>Te
 rmin:</strong><br/>Beginn: 18.08.2026\, 16:00 Uhr<br/>Ende: 18.08.2026<br 
 /><strong>Tickets: </strong><br/>Der Eintritt ist frei\, eine Anmeldung is
 t nicht erforderlich.<br /><strong>Link:</strong><br/><a href='https://ort
 enaukultur.de/fr/evenements/detail/evenement/id/581589-kreative-doppelstun
 de/?vt=1'>Page détaillée </a>
END:VEVENT
END:VCALENDAR
