BEGIN:VCALENDAR
VERSION:2.0
PRODID:-//ortenaukultur.de//NONSGML kigkonsult.se iCalcreator 2.41.92//
CALSCALE:GREGORIAN
METHOD:PUBLISH
UID:66666237-3566-4931-b832-366134636138
X-WR-TIMEZONE:Europe/Berlin
X-LIC-LOCATION:Europe/Berlin
BEGIN:VEVENT
UID:582122-kulturportal@ortenaukultur.de
DTSTAMP:20260421T224607Z
DESCRIPTION:Kurzbeschreibung:\n Eine Veranstaltung des Kommunalen Kinos Obe
 rkirch in Kooperation mit BUND und PAuLA\n Ort:\n Veranstaltungsraum Media
 thek\n Hauptstraße 12\, 77704 Oberkirch\n Veranstalter:\n Kommunales Kino 
 Oberkirch\n Termin:\n Beginn: 19.05.2026\, 20:00 Uhr\n Ende: 19.05.2026\n 
 Link:\n Page détaillée
DTSTART;TZID=Europe/Berlin:20260519T200000
DTEND;TZID=Europe/Berlin:20260519T230000
LOCATION:Veranstaltungsraum Mediathek\, Hauptstraße 12\, 77704 Oberkirch
SUMMARY:Kommunales Kino: Zwischen Himmel und Eis\, Veranstaltungsraum Media
 thek
X-ALT-DESC;FMTTYPE=text/html:<strong>Kurzbeschreibung:</strong><br/>Eine Ve
 ranstaltung des Kommunalen Kinos Oberkirch in Kooperation mit BUND und PAu
 LA<br /><strong>Ort:</strong><br/>Veranstaltungsraum Mediathek<br/>Hauptst
 raße 12\, 77704 Oberkirch<br /><strong>Veranstalter:</strong><br/>Kommunal
 es Kino Oberkirch<br /><strong>Termin:</strong><br/>Beginn: 19.05.2026\, 2
 0:00 Uhr<br/>Ende: 19.05.2026<br /><strong>Link:</strong><br/><a href='htt
 ps://ortenaukultur.de/fr/evenements/detail/evenement/id/582122-kommunales-
 kino-zwischen-himmel-und-eis/?vt=1'>Page détaillée </a>
END:VEVENT
END:VCALENDAR
