BEGIN:VCALENDAR
VERSION:2.0
PRODID:-//ortenaukultur.de//NONSGML kigkonsult.se iCalcreator 2.41.92//
CALSCALE:GREGORIAN
METHOD:PUBLISH
UID:65306539-3866-4330-a631-376165373233
X-WR-TIMEZONE:Europe/Berlin
X-LIC-LOCATION:Europe/Berlin
BEGIN:VEVENT
UID:583696-kulturportal@ortenaukultur.de
DTSTAMP:20260422T205845Z
DESCRIPTION:Kurzbeschreibung:\n Unmittelbar nach dem Krieg 1870/71 haben üb
 erwiegend deutsche Architekten das Viertel neu und modern aufgebaut.\n Ort
 :\n Innenstadt\n Marktplatz / Hauptstraße\, 77694 Kehl\n Veranstalter:\n K
 ehl Marketing GmbH\n Termin:\n Beginn: 10.09.2026\n Ende: 10.09.2026\n Tic
 kets:\n \n https://kehl-marketing-gmbh.reservix.de/events\n 16\,90 Euro in
 kl. Headset\n \n Tram-Fahrkarte unbedingt separat dazu kaufen!\n Link:\n P
 age détaillée
DTSTART;TZID=Europe/Berlin:20260910T000000
DTEND;TZID=Europe/Berlin:20260910T030000
LOCATION:Innenstadt\, Marktplatz / Hauptstraße\, 77694 Kehl
SUMMARY:Führung 'Straßburg La Neustadt'\, Innenstadt
X-ALT-DESC;FMTTYPE=text/html:<strong>Kurzbeschreibung:</strong><br/>Unmitte
 lbar nach dem Krieg 1870/71 haben überwiegend deutsche Architekten das Vie
 rtel neu und modern aufgebaut.<br /><strong>Ort:</strong><br/>Innenstadt<b
 r/>Marktplatz / Hauptstraße\, 77694 Kehl<br /><strong>Veranstalter:</stron
 g><br/>Kehl Marketing GmbH<br /><strong>Termin:</strong><br/>Beginn: 10.09
 .2026<br/>Ende: 10.09.2026<br /><strong>Tickets: </strong><br/><a  class='
 wco_cb_subtitle_link'  id='ticketlink'  href='https://kehl-marketing-gmbh.
 reservix.de/events' target='_blank' title='Öffnet externen Link in einem n
 euen Fenster'></a><br/>https://kehl-marketing-gmbh.reservix.de/events<br/>
 16\,90 Euro inkl. Headset<br />\n<br />\nTram-Fahrkarte unbedingt separat 
 dazu kaufen!<br /><strong>Link:</strong><br/><a href='https://ortenaukultu
 r.de/fr/evenements/detail/evenement/id/583696-fuehrung-strassburg-la-neust
 adt/?vt=1'>Page détaillée </a>
END:VEVENT
END:VCALENDAR
