BEGIN:VCALENDAR
VERSION:2.0
PRODID:-//ortenaukultur.de//NONSGML kigkonsult.se iCalcreator 2.41.92//
CALSCALE:GREGORIAN
METHOD:PUBLISH
UID:36616637-3137-4765-b364-383333343766
X-WR-TIMEZONE:Europe/Berlin
X-LIC-LOCATION:Europe/Berlin
BEGIN:VEVENT
UID:585364-kulturportal@ortenaukultur.de
DTSTAMP:20260422T223808Z
DESCRIPTION:Kurzbeschreibung:\n Spannender Stadtrundgang über berühmte und 
 auch nicht so bekannte Frauen Acherns\n Ort:\n Adlerplatz Achern\, Achern
 \n Veranstalter:\n Stadt Achern - FG3.3 - Tourist-Info\n Termin:\n Beginn:
  26.05.2026\, 17:00 Uhr\n Ende: 26.05.2026\n Link:\n Page détaillée
DTSTART;TZID=Europe/Berlin:20260526T170000
DTEND;TZID=Europe/Berlin:20260526T200000
LOCATION:Adlerplatz Achern\, Achern
SUMMARY:Stadtführung 'Auf den Spuren Acherner Frauen'\, Adlerplatz Achern
X-ALT-DESC;FMTTYPE=text/html:<strong>Kurzbeschreibung:</strong><br/>Spannen
 der Stadtrundgang über berühmte und auch nicht so bekannte Frauen Acherns<
 br /><strong>Ort:</strong><br/>Adlerplatz Achern\, Achern<br /><strong>Ver
 anstalter:</strong><br/>Stadt Achern - FG3.3 - Tourist-Info<br /><strong>T
 ermin:</strong><br/>Beginn: 26.05.2026\, 17:00 Uhr<br/>Ende: 26.05.2026<br
  /><strong>Link:</strong><br/><a href='https://ortenaukultur.de/fr/eveneme
 nts/detail/evenement/id/585364-stadtfuehrung-auf-den-spuren-acherner-fraue
 n/?vt=1'>Page détaillée </a>
END:VEVENT
END:VCALENDAR
