BEGIN:VCALENDAR
VERSION:2.0
PRODID:-//ortenaukultur.de//NONSGML kigkonsult.se iCalcreator 2.41.92//
CALSCALE:GREGORIAN
METHOD:PUBLISH
UID:66393461-6334-4664-b761-396532646363
X-WR-TIMEZONE:Europe/Berlin
X-LIC-LOCATION:Europe/Berlin
BEGIN:VEVENT
UID:585832-kulturportal@ortenaukultur.de
DTSTAMP:20260422T040313Z
DESCRIPTION:Kurzbeschreibung:\n Elfmeter-Turnier mit anschließender Classic
  Rock Kult Nacht mit 'Cleopha'\n Ort:\n Sportplatz Steinach\n Sportplatzst
 raße\, 77790 Steinach\n Veranstalter:\n Sportverein\n Termin:\n Beginn: 13
 .05.2026\n Ende: 13.05.2026\n Link:\n Page détaillée
DTSTART;TZID=Europe/Berlin:20260513T000000
DTEND;TZID=Europe/Berlin:20260513T030000
LOCATION:Sportplatz Steinach\, Sportplatzstraße\, 77790 Steinach
SUMMARY:Elfmeter-Turnier \, Sportplatz Steinach
X-ALT-DESC;FMTTYPE=text/html:<strong>Kurzbeschreibung:</strong><br/>Elfmete
 r-Turnier mit anschließender Classic Rock Kult Nacht mit 'Cleopha'<br /><s
 trong>Ort:</strong><br/>Sportplatz Steinach<br/>Sportplatzstraße\, 77790 S
 teinach<br /><strong>Veranstalter:</strong><br/>Sportverein<br /><strong>T
 ermin:</strong><br/>Beginn: 13.05.2026<br/>Ende: 13.05.2026<br /><strong>L
 ink:</strong><br/><a href='https://ortenaukultur.de/fr/evenements/detail/e
 venement/id/585832-elfmeter-turnier/?vt=1'>Page détaillée </a>
END:VEVENT
END:VCALENDAR
