BEGIN:VCALENDAR
VERSION:2.0
PRODID:-//ortenaukultur.de//NONSGML kigkonsult.se iCalcreator 2.41.92//
CALSCALE:GREGORIAN
METHOD:PUBLISH
UID:62313932-3763-4536-a665-663437666638
X-WR-TIMEZONE:Europe/Berlin
X-LIC-LOCATION:Europe/Berlin
BEGIN:VEVENT
UID:588443-kulturportal@ortenaukultur.de
DTSTAMP:20260422T054943Z
DESCRIPTION:Kurzbeschreibung:\n Beim Pfingstsportfest wird einiges geboten:
  Fußball - Party - Kulinarisches\n Ort:\n Sportplatz Welschensteinach\n Am
  Sportplatz 18\, 77790 Steinach-Welschensteinach\n Veranstalter:\n DJK\n T
 ermin:\n Beginn: 23.05.2026\, 18:00 Uhr\n Ende: 23.05.2026\n Link:\n Page 
 détaillée
DTSTART;TZID=Europe/Berlin:20260523T180000
DTEND;TZID=Europe/Berlin:20260523T210000
LOCATION:Sportplatz Welschensteinach\, Am Sportplatz 18\, 77790 Steinach-We
 lschensteinach
SUMMARY:Pfingstsportfest \, Sportplatz Welschensteinach
X-ALT-DESC;FMTTYPE=text/html:<strong>Kurzbeschreibung:</strong><br/>Beim Pf
 ingstsportfest wird einiges geboten:\nFußball - Party - Kulinarisches<br /
 ><strong>Ort:</strong><br/>Sportplatz Welschensteinach<br/>Am Sportplatz 1
 8\, 77790 Steinach-Welschensteinach<br /><strong>Veranstalter:</strong><br
 />DJK<br /><strong>Termin:</strong><br/>Beginn: 23.05.2026\, 18:00 Uhr<br/
 >Ende: 23.05.2026<br /><strong>Link:</strong><br/><a href='https://ortenau
 kultur.de/fr/evenements/detail/evenement/id/588443-pfingstsportfest/?vt=1'
 >Page détaillée </a>
END:VEVENT
END:VCALENDAR
