BEGIN:VCALENDAR
VERSION:2.0
PRODID:-//ortenaukultur.de//NONSGML kigkonsult.se iCalcreator 2.41.92//
CALSCALE:GREGORIAN
METHOD:PUBLISH
UID:31623531-3635-4862-a463-623036306632
X-WR-TIMEZONE:Europe/Berlin
X-LIC-LOCATION:Europe/Berlin
BEGIN:VEVENT
UID:588666-kulturportal@ortenaukultur.de
DTSTAMP:20260422T102649Z
DESCRIPTION:Kurzbeschreibung:\n Dazu hauseigene Hirschbratwürste\, Wienerle
 \, selbstgebackenes Brot\, Stockbrot für Kinder\, weitere Getränke. Anmeld
 ung: Touristen-Info 07838/929921.\n Ort:\n Rathaus\n Im Dorf 26\, 77787 No
 rdrach\n Veranstalter:\n Touristen-Information Nordrach\n Termin:\n Beginn
 : 29.12.2026\, 16:30 Uhr\n Ende: 29.12.2026\n Link:\n Page détaillée
DTSTART;TZID=Europe/Berlin:20261229T163000
DTEND;TZID=Europe/Berlin:20261229T193000
LOCATION:Rathaus \, Im Dorf 26\, 77787 Nordrach
SUMMARY:Geführte Laternenwanderung zum weihnachtlichen Basilihof - mit Glüh
 weinhock am Lagerfeuer!\, Rathaus
X-ALT-DESC;FMTTYPE=text/html:<strong>Kurzbeschreibung:</strong><br/>Dazu ha
 useigene Hirschbratwürste\, Wienerle\, selbstgebackenes Brot\, Stockbrot f
 ür Kinder\, weitere Getränke. Anmeldung: Touristen-Info 07838/929921.<br /
 ><strong>Ort:</strong><br/>Rathaus <br/>Im Dorf 26\, 77787 Nordrach<br /><
 strong>Veranstalter:</strong><br/>Touristen-Information Nordrach<br /><str
 ong>Termin:</strong><br/>Beginn: 29.12.2026\, 16:30 Uhr<br/>Ende: 29.12.20
 26<br /><strong>Link:</strong><br/><a href='https://ortenaukultur.de/fr/ev
 enements/detail/evenement/id/588666-gefuehrte-laternenwanderung-zum-weihna
 chtlichen-basilihof-mit-gluehweinhock-am-lagerfeuer/?vt=1'>Page détaillée 
 </a>
END:VEVENT
END:VCALENDAR
