BEGIN:VCALENDAR
VERSION:2.0
PRODID:-//ortenaukultur.de//NONSGML kigkonsult.se iCalcreator 2.41.92//
CALSCALE:GREGORIAN
METHOD:PUBLISH
UID:32333735-6237-4237-b432-666261303037
X-WR-TIMEZONE:Europe/Berlin
X-LIC-LOCATION:Europe/Berlin
BEGIN:VEVENT
UID:588803-kulturportal@ortenaukultur.de
DTSTAMP:20260423T022300Z
DESCRIPTION:Kurzbeschreibung:\n Von Mitte Mai bis Anfang Oktober findet jed
 en Freitag eine Stadtführung statt. Gehen Sie auf den Spuren der Ettenheim
 er Geschichte.\n Ort:\n Rathaus Ettenheim\, Bärenbrunnen\n Rohanstr. 16\, 
 77955 Ettenheim\n Veranstalter:\n Stadt Ettenheim (LS)\n Termin:\n Beginn:
  15.05.2026\, 19:00 Uhr\n Ende: 15.05.2026\n Tickets:\n Erwachsene 4\,- € 
 (Kinder bis 17 Jahre frei) - Keine Anmeldung erforderlich.\n \n Mit der Er
 lebnisregion-Europa Park Card erhalten Sie 50 % Ermäßigung auf eine Freita
 gsführung (vorab im Bürgerbüro einzulösen.)\n Bonus-Partner SchwarzwaldCar
 d (Teilnahme kostenlos)\n \n Sondertermine nach Absprache\, Tel. 07822 432
 -220 Tourist-Info\n \n Barocker Rundweg: 60 € pro Gruppe (max. 22-24 Perso
 nen pro Gruppe)\n Rundgang mit Stadtführer/in im Kostüm (Nachtwächter\, He
 xe\, Magd\, Spion ): 70 € pro Gruppe (max. 22-24 Personen pro Gruppe)\n St
 adtführung in frz./engl. - 70 EUR pro Gruppe\n Link:\n Page détaillée
DTSTART;TZID=Europe/Berlin:20260515T190000
DTEND;TZID=Europe/Berlin:20260515T220000
LOCATION:Rathaus Ettenheim\, Bärenbrunnen\, Rohanstr. 16\, 77955 Ettenheim
SUMMARY:Stadtführung in der Barockstadt Ettenheim\, Rathaus Ettenheim\, Bär
 enbrunnen
X-ALT-DESC;FMTTYPE=text/html:<strong>Kurzbeschreibung:</strong><br/>Von Mit
 te Mai bis Anfang Oktober findet jeden Freitag eine Stadtführung statt. Ge
 hen Sie auf den Spuren der Ettenheimer Geschichte.\n<br /><strong>Ort:</st
 rong><br/>Rathaus Ettenheim\, Bärenbrunnen<br/>Rohanstr. 16\, 77955 Ettenh
 eim<br /><strong>Veranstalter:</strong><br/>Stadt Ettenheim (LS)<br /><str
 ong>Termin:</strong><br/>Beginn: 15.05.2026\, 19:00 Uhr<br/>Ende: 15.05.20
 26<br /><strong>Tickets: </strong><br/>Erwachsene 4\,- € (Kinder bis 17 Ja
 hre frei) - Keine Anmeldung erforderlich.<br />\n<br />\nMit der Erlebnisr
 egion-Europa Park Card erhalten Sie 50 % Ermäßigung auf eine Freitagsführu
 ng (vorab im Bürgerbüro einzulösen.)<br />\nBonus-Partner SchwarzwaldCard 
 (Teilnahme kostenlos)<br />\n<br />\nSondertermine nach Absprache\, Tel. 0
 7822 432-220 Tourist-Info<br />\n<br />\nBarocker Rundweg: 60 € pro Gruppe
  (max. 22-24 Personen pro Gruppe)<br />\nRundgang mit Stadtführer/in im Ko
 stüm (Nachtwächter\, Hexe\, Magd\, Spion ): 70 € pro Gruppe (max. 22-24 Pe
 rsonen pro Gruppe)<br />\nStadtführung in frz./engl. - 70 EUR pro Gruppe<b
 r /><strong>Link:</strong><br/><a href='https://ortenaukultur.de/fr/evenem
 ents/detail/evenement/id/588803-stadtfuehrung-in-der-barockstadt-ettenheim
 /?vt=1'>Page détaillée </a>
END:VEVENT
END:VCALENDAR
