BEGIN:VCALENDAR
VERSION:2.0
PRODID:-//ortenaukultur.de//NONSGML kigkonsult.se iCalcreator 2.41.92//
CALSCALE:GREGORIAN
METHOD:PUBLISH
UID:34363639-6634-4039-b036-306536336633
X-WR-TIMEZONE:Europe/Berlin
X-LIC-LOCATION:Europe/Berlin
BEGIN:VEVENT
UID:589416-kulturportal@ortenaukultur.de
DTSTAMP:20260422T042432Z
DESCRIPTION:Kurzbeschreibung:\n Die Führung für Bierliebhaber mit Stadtführ
 erin Billy Sum-Herrmann findet in der Reihe DORT statt.\n Ort:\n Altes Kap
 uzinerkloster\n Klosterstr. 1\, 77716 Haslach\n Veranstalter:\n Stadt Hasl
 ach - Kultur und Marketing\n Termin:\n Beginn: 21.05.2026\, 18:00 Uhr\n En
 de: 21.05.2026\n Tickets:\n 20 €\n Link:\n Page détaillée
DTSTART;TZID=Europe/Berlin:20260521T180000
DTEND;TZID=Europe/Berlin:20260521T210000
LOCATION:Altes Kapuzinerkloster\, Klosterstr. 1\, 77716 Haslach
SUMMARY:Eine besondere Stadtführung: „Hopfen und Malz\, ab in den Hals“ - D
 ie Biertour durchs Städtle\, Altes Kapuzinerkloster
X-ALT-DESC;FMTTYPE=text/html:<strong>Kurzbeschreibung:</strong><br/>Die Füh
 rung für Bierliebhaber mit Stadtführerin Billy Sum-Herrmann findet in der 
 Reihe DORT statt.\n<br /><strong>Ort:</strong><br/>Altes Kapuzinerkloster<
 br/>Klosterstr. 1\, 77716 Haslach<br /><strong>Veranstalter:</strong><br/>
 Stadt Haslach - Kultur und Marketing<br /><strong>Termin:</strong><br/>Beg
 inn: 21.05.2026\, 18:00 Uhr<br/>Ende: 21.05.2026<br /><strong>Tickets: </s
 trong><br/>20 €<br /><strong>Link:</strong><br/><a href='https://ortenauku
 ltur.de/fr/evenements/detail/evenement/id/589416-eine-besondere-stadtfuehr
 ung-hopfen-und-malz-ab-in-den-hals-die-biertour-durchs-staedtle/?vt=1'>Pag
 e détaillée </a>
END:VEVENT
END:VCALENDAR
