BEGIN:VCALENDAR
VERSION:2.0
PRODID:-//ortenaukultur.de//NONSGML kigkonsult.se iCalcreator 2.41.92//
CALSCALE:GREGORIAN
METHOD:PUBLISH
UID:37373665-3633-4562-b661-383135363039
X-WR-TIMEZONE:Europe/Berlin
X-LIC-LOCATION:Europe/Berlin
BEGIN:VEVENT
UID:589452-kulturportal@ortenaukultur.de
DTSTAMP:20260422T112836Z
DESCRIPTION:Kurzbeschreibung:\n Eine Stadtführung mit dem Edelknecht Hartmu
 t von Schwiggenstein (Herbert Rittershofer) in der Reihe DORT -Donnerstags
  in der Ortenau\n Ort:\n Historische Fachwerkaltstadt\n Marktplatz\, 77716
  Haslach\n Veranstalter:\n Stadt Haslach - Kultur und Marketing\n Termin:
 \n Beginn: 11.06.2026\, 18:00 Uhr\n Ende: 11.06.2026\n Tickets:\n Erwachse
 ner: 16\,00 €\n \n Link:\n Page détaillée
DTSTART;TZID=Europe/Berlin:20260611T180000
DTEND;TZID=Europe/Berlin:20260611T210000
LOCATION:Historische Fachwerkaltstadt\, Marktplatz\, 77716 Haslach
SUMMARY:Mit dem Edelknecht durchs mittelalterliche Haslach\, Historische Fa
 chwerkaltstadt
X-ALT-DESC;FMTTYPE=text/html:<strong>Kurzbeschreibung:</strong><br/>Eine St
 adtführung mit dem Edelknecht Hartmut von Schwiggenstein (Herbert Rittersh
 ofer) in der Reihe DORT -Donnerstags in der Ortenau\n\n<br /><strong>Ort:<
 /strong><br/>Historische Fachwerkaltstadt<br/>Marktplatz\, 77716 Haslach<b
 r /><strong>Veranstalter:</strong><br/>Stadt Haslach - Kultur und Marketin
 g<br /><strong>Termin:</strong><br/>Beginn: 11.06.2026\, 18:00 Uhr<br/>End
 e: 11.06.2026<br /><strong>Tickets: </strong><br/>Erwachsener: 16\,00 €<br
  />\n<br /><strong>Link:</strong><br/><a href='https://ortenaukultur.de/fr
 /evenements/detail/evenement/id/589452-mit-dem-edelknecht-durchs-mittelalt
 erliche-haslach/?vt=1'>Page détaillée </a>
END:VEVENT
END:VCALENDAR
