BEGIN:VCALENDAR
VERSION:2.0
PRODID:-//ortenaukultur.de//NONSGML kigkonsult.se iCalcreator 2.41.92//
CALSCALE:GREGORIAN
METHOD:PUBLISH
UID:33343766-3338-4934-b237-616431666134
X-WR-TIMEZONE:Europe/Berlin
X-LIC-LOCATION:Europe/Berlin
BEGIN:VEVENT
UID:590333-kulturportal@ortenaukultur.de
DTSTAMP:20260422T022535Z
DESCRIPTION:Kurzbeschreibung:\n Informationveranstaltung und Sonderverkauf 
 der Ortenau Jahrücher zur Langen Nacht der Kultur\n Ort:\n Kulturcafé im R
 itterhaus\n Ritterstraße 10\, 77652 Offenburg\n Veranstalter:\n Museum im 
 Ritterhaus Offenburg\n Termin:\n Beginn: 24.04.2026\, 18:00 Uhr\n Ende: 24
 .04.2026\n Link:\n Page détaillée
DTSTART;TZID=Europe/Berlin:20260424T180000
DTEND;TZID=Europe/Berlin:20260424T210000
LOCATION:Kulturcafé im Ritterhaus\, Ritterstraße 10\, 77652 Offenburg
SUMMARY:Der Historische Verein e. V. stellt sich vor\, Kulturcafé im Ritter
 haus
X-ALT-DESC;FMTTYPE=text/html:<strong>Kurzbeschreibung:</strong><br/>Informa
 tionveranstaltung und Sonderverkauf der Ortenau Jahrücher zur Langen Nacht
  der Kultur<br /><strong>Ort:</strong><br/>Kulturcafé im Ritterhaus<br/>Ri
 tterstraße 10\, 77652 Offenburg<br /><strong>Veranstalter:</strong><br/>Mu
 seum im Ritterhaus Offenburg<br /><strong>Termin:</strong><br/>Beginn: 24.
 04.2026\, 18:00 Uhr<br/>Ende: 24.04.2026<br /><strong>Link:</strong><br/><
 a href='https://ortenaukultur.de/fr/evenements/detail/evenement/id/590333-
 der-historische-verein-e-v-stellt-sich-vor/?vt=1'>Page détaillée </a>
END:VEVENT
END:VCALENDAR
