BEGIN:VCALENDAR
VERSION:2.0
PRODID:-//ortenaukultur.de//NONSGML kigkonsult.se iCalcreator 2.41.92//
CALSCALE:GREGORIAN
METHOD:PUBLISH
UID:65383866-3264-4932-a433-386566623861
X-WR-TIMEZONE:Europe/Berlin
X-LIC-LOCATION:Europe/Berlin
BEGIN:VEVENT
UID:591384-kulturportal@ortenaukultur.de
DTSTAMP:20260422T223655Z
DESCRIPTION:Kurzbeschreibung:\n Die eindrucksvolle Landy Tour!Über die Damm
 enmühle und den Stiefelweg geht es zu den Weinbergen auf der Gemarkung Sul
 z mit herrlichem Blick zum Kaiserstuhl\n Ort:\n Start / Ende der Tour: Pla
 tz vor der Tonofenfabrik / Stadtmuseum \, Lahr\n Veranstalter:\n Stadt Lah
 r Stadtmarketing\n Termin:\n Beginn: 30.05.2026\, 15:00 Uhr\n Ende: 30.05.
 2026\n Tickets:\n Direkt vor Ort beim Weinguide zu zahlen.\n https://www.w
 einschmecker-tours.de/events\n 48€ pro Person\n Anmeldung erforderlich!\n 
 Link:\n Page détaillée
DTSTART;TZID=Europe/Berlin:20260530T150000
DTEND;TZID=Europe/Berlin:20260530T180000
LOCATION:Start / Ende der Tour: Platz vor der Tonofenfabrik / Stadtmuseum \
 , Lahr
SUMMARY:Landrover-Tour durch die Weinberge\, Start / Ende der Tour: Platz v
 or der Tonofenfabrik / Stadtmuseum
X-ALT-DESC;FMTTYPE=text/html:<strong>Kurzbeschreibung:</strong><br/>Die ein
 drucksvolle Landy Tour!Über die Dammenmühle und den Stiefelweg geht es zu 
 den Weinbergen auf der Gemarkung Sulz mit herrlichem Blick zum Kaiserstuhl
 <br /><strong>Ort:</strong><br/>Start / Ende der Tour: Platz vor der Tonof
 enfabrik / Stadtmuseum \, Lahr<br /><strong>Veranstalter:</strong><br/>Sta
 dt Lahr Stadtmarketing<br /><strong>Termin:</strong><br/>Beginn: 30.05.202
 6\, 15:00 Uhr<br/>Ende: 30.05.2026<br /><strong>Tickets: </strong><br/><a 
  class='wco_cb_subtitle_link'  id='ticketlink'  href='https://www.weinschm
 ecker-tours.de/events' target='_blank' title='Öffnet externen Link in eine
 m neuen Fenster'>Direkt vor Ort beim Weinguide zu zahlen.</a><br/>https://
 www.weinschmecker-tours.de/events<br/>48€ pro Person<br />\nAnmeldung erfo
 rderlich!<br /><strong>Link:</strong><br/><a href='https://ortenaukultur.d
 e/fr/evenements/detail/evenement/id/591384-landrover-tour-durch-die-weinbe
 rge/?vt=1'>Page détaillée </a>
END:VEVENT
END:VCALENDAR
