BEGIN:VCALENDAR
VERSION:2.0
PRODID:-//ortenaukultur.de//NONSGML kigkonsult.se iCalcreator 2.41.92//
CALSCALE:GREGORIAN
METHOD:PUBLISH
UID:64616234-6635-4439-b137-343236303662
X-WR-TIMEZONE:Europe/Berlin
X-LIC-LOCATION:Europe/Berlin
BEGIN:VEVENT
UID:591526-kulturportal@ortenaukultur.de
DTSTAMP:20260422T223548Z
DESCRIPTION:Kurzbeschreibung:\n Tanzfete in der Walpurgisnacht im Offenburg
 er KiK – Kultur in der Kaserne. Ein Tanz-Tipp für Partygänger\n Ort:\n KiK
  - Kultur in der Kaserne\n Weingartenstraße 34 c\, 77654 Offenburg\n Veran
 stalter:\n KiK - Kultur in der Kaserne\n Termin:\n Beginn: 30.04.2026\, 20
 :00 Uhr\n Ende: 30.04.2026\n Link:\n Page détaillée
DTSTART;TZID=Europe/Berlin:20260430T200000
DTEND;TZID=Europe/Berlin:20260430T230000
LOCATION:KiK - Kultur in der Kaserne\, Weingartenstraße 34 c\, 77654 Offenb
 urg
SUMMARY:Tanz in den Mai mit DJ Hoover\, KiK - Kultur in der Kaserne
X-ALT-DESC;FMTTYPE=text/html:<strong>Kurzbeschreibung:</strong><br/>Tanzfet
 e in der Walpurgisnacht im Offenburger KiK – Kultur in der Kaserne. Ein Ta
 nz-Tipp für Partygänger<br /><strong>Ort:</strong><br/>KiK - Kultur in der
  Kaserne<br/>Weingartenstraße 34 c\, 77654 Offenburg<br /><strong>Veransta
 lter:</strong><br/>KiK - Kultur in der Kaserne<br /><strong>Termin:</stron
 g><br/>Beginn: 30.04.2026\, 20:00 Uhr<br/>Ende: 30.04.2026<br /><strong>Li
 nk:</strong><br/><a href='https://ortenaukultur.de/fr/evenements/detail/ev
 enement/id/591526-tanz-in-den-mai-mit-dj-hoover/?vt=1'>Page détaillée </a>
END:VEVENT
END:VCALENDAR
