BEGIN:VCALENDAR
VERSION:2.0
PRODID:-//ortenaukultur.de//NONSGML kigkonsult.se iCalcreator 2.41.92//
CALSCALE:GREGORIAN
METHOD:PUBLISH
UID:36313438-3038-4430-a532-336230643862
X-WR-TIMEZONE:Europe/Berlin
X-LIC-LOCATION:Europe/Berlin
BEGIN:VEVENT
UID:591530-kulturportal@ortenaukultur.de
DTSTAMP:20260421T192603Z
DESCRIPTION:Kurzbeschreibung:\n Eine Komödie von Emir Kusturica in einer bu
 nten Welt mit viel schwarzem Humor\n Ort:\n KiK - Kultur in der Kaserne\n 
 Weingartenstraße 34 c\, 77654 Offenburg\n Veranstalter:\n KiK - Kultur in 
 der Kaserne\n Termin:\n Beginn: 22.04.2026\, 20:00 Uhr\n Ende: 22.04.2026
 \n Link:\n Page détaillée
DTSTART;TZID=Europe/Berlin:20260422T200000
DTEND;TZID=Europe/Berlin:20260422T230000
LOCATION:KiK - Kultur in der Kaserne\, Weingartenstraße 34 c\, 77654 Offenb
 urg
SUMMARY:Film - Schwarze Katze weißer Kater\, KiK - Kultur in der Kaserne
X-ALT-DESC;FMTTYPE=text/html:<strong>Kurzbeschreibung:</strong><br/>Eine Ko
 mödie von Emir Kusturica in einer bunten Welt mit viel schwarzem Humor<br 
 /><strong>Ort:</strong><br/>KiK - Kultur in der Kaserne<br/>Weingartenstra
 ße 34 c\, 77654 Offenburg<br /><strong>Veranstalter:</strong><br/>KiK - Ku
 ltur in der Kaserne<br /><strong>Termin:</strong><br/>Beginn: 22.04.2026\,
  20:00 Uhr<br/>Ende: 22.04.2026<br /><strong>Link:</strong><br/><a href='h
 ttps://ortenaukultur.de/fr/evenements/detail/evenement/id/591530-film-schw
 arze-katze-weisser-kater/?vt=1'>Page détaillée </a>
END:VEVENT
END:VCALENDAR
