BEGIN:VCALENDAR
VERSION:2.0
PRODID:-//ortenaukultur.de//NONSGML kigkonsult.se iCalcreator 2.41.92//
CALSCALE:GREGORIAN
METHOD:PUBLISH
UID:39333764-6336-4563-b236-386135306330
X-WR-TIMEZONE:Europe/Berlin
X-LIC-LOCATION:Europe/Berlin
BEGIN:VEVENT
UID:591571-kulturportal@ortenaukultur.de
DTSTAMP:20260422T092039Z
DESCRIPTION:Kurzbeschreibung:\n Eine Führung zu den 12 Graffiti in der Baue
 rngasse mit sommerlich-erfrischendem Getränk!\n Ort:\n Salmen Foyer\n Lang
 estraße 52\, 77652 Offenburg\n Veranstalter:\n Der Salmen\n Termin:\n Begi
 nn: 11.06.2026\, 18:00 Uhr\n Ende: 11.06.2026\n Link:\n Page détaillée
DTSTART;TZID=Europe/Berlin:20260611T180000
DTEND;TZID=Europe/Berlin:20260611T210000
LOCATION:Salmen Foyer\, Langestraße 52\, 77652 Offenburg
SUMMARY:DORT-Führung: Bilder zur Freiheit. Die Graffiti in der Bauerngasse\
 , Salmen Foyer
X-ALT-DESC;FMTTYPE=text/html:<strong>Kurzbeschreibung:</strong><br/>Eine Fü
 hrung zu den 12 Graffiti in der Bauerngasse mit sommerlich-erfrischendem G
 etränk!<br /><strong>Ort:</strong><br/>Salmen Foyer<br/>Langestraße 52\, 7
 7652 Offenburg<br /><strong>Veranstalter:</strong><br/>Der Salmen<br /><st
 rong>Termin:</strong><br/>Beginn: 11.06.2026\, 18:00 Uhr<br/>Ende: 11.06.2
 026<br /><strong>Link:</strong><br/><a href='https://ortenaukultur.de/fr/e
 venements/detail/evenement/id/591571-dort-fuehrung-bilder-zur-freiheit-die
 -graffiti-in-der-bauerngasse/?vt=1'>Page détaillée </a>
END:VEVENT
END:VCALENDAR
