BEGIN:VCALENDAR
VERSION:2.0
PRODID:-//ortenaukultur.de//NONSGML kigkonsult.se iCalcreator 2.41.92//
CALSCALE:GREGORIAN
METHOD:PUBLISH
UID:66643435-6532-4335-b439-623033666535
X-WR-TIMEZONE:Europe/Berlin
X-LIC-LOCATION:Europe/Berlin
BEGIN:VEVENT
UID:593370-kulturportal@ortenaukultur.de
DTSTAMP:20260422T113933Z
DESCRIPTION:Kurzbeschreibung:\n Wir zeigen den ersten Teil der Reihe 'Die U
 nbeugsamen' im Salmen. Film ab!\n Ort:\n Salmen\n Langestrasse 52\, 77652 
 Offenburg\n Veranstalter:\n Der Salmen\n Termin:\n Beginn: 12.06.2026\, 20
 :00 Uhr\n Ende: 12.06.2026\n Link:\n Page détaillée
DTSTART;TZID=Europe/Berlin:20260612T200000
DTEND;TZID=Europe/Berlin:20260612T230000
LOCATION:Salmen\, Langestrasse 52\, 77652 Offenburg
SUMMARY:Filmabend: Die Unbeugsamen\, Salmen
X-ALT-DESC;FMTTYPE=text/html:<strong>Kurzbeschreibung:</strong><br/>Wir zei
 gen den ersten Teil der Reihe 'Die Unbeugsamen' im Salmen. Film ab!<br /><
 strong>Ort:</strong><br/>Salmen<br/>Langestrasse 52\, 77652 Offenburg<br /
 ><strong>Veranstalter:</strong><br/>Der Salmen<br /><strong>Termin:</stron
 g><br/>Beginn: 12.06.2026\, 20:00 Uhr<br/>Ende: 12.06.2026<br /><strong>Li
 nk:</strong><br/><a href='https://ortenaukultur.de/fr/evenements/detail/ev
 enement/id/593370-filmabend-die-unbeugsamen/?vt=1'>Page détaillée </a>
END:VEVENT
END:VCALENDAR
