BEGIN:VCALENDAR
VERSION:2.0
PRODID:-//ortenaukultur.de//NONSGML kigkonsult.se iCalcreator 2.41.92//
CALSCALE:GREGORIAN
METHOD:PUBLISH
UID:34383932-6631-4233-b363-356539303633
X-WR-TIMEZONE:Europe/Berlin
X-LIC-LOCATION:Europe/Berlin
BEGIN:VEVENT
UID:593897-kulturportal@ortenaukultur.de
DTSTAMP:20260422T072743Z
DESCRIPTION:Kurzbeschreibung:\n Brüder\, zur Freiheit - Die Badische Revolu
 tion zu Gast im Freilichtmuseum Vogtsbauernhof\n Ort:\n Schwarzwälder Frei
 lichtmuseum Vogtsbauernhof\n Vogtsbauernhof\, 77793 Gutach (Schwarzwaldbah
 n)\n Veranstalter:\n Schwarzwälder Freilichtmuseum Vogtsbauernhof\n Termin
 :\n Beginn: 24.05.2026\, 11:00 Uhr\n Ende: 24.05.2026\n Link:\n Page détai
 llée
DTSTART;TZID=Europe/Berlin:20260524T110000
DTEND;TZID=Europe/Berlin:20260524T140000
LOCATION:Schwarzwälder Freilichtmuseum Vogtsbauernhof\, Vogtsbauernhof\, 77
 793 Gutach (Schwarzwaldbahn)
SUMMARY:Begegnungen: Brüder\, zur Freiheit\, Schwarzwälder Freilichtmuseum 
 Vogtsbauernhof
X-ALT-DESC;FMTTYPE=text/html:<strong>Kurzbeschreibung:</strong><br/>Brüder\
 , zur Freiheit - Die Badische Revolution zu Gast im Freilichtmuseum Vogtsb
 auernhof<br /><strong>Ort:</strong><br/>Schwarzwälder Freilichtmuseum Vogt
 sbauernhof<br/>Vogtsbauernhof\, 77793 Gutach (Schwarzwaldbahn)<br /><stron
 g>Veranstalter:</strong><br/>Schwarzwälder Freilichtmuseum Vogtsbauernhof<
 br /><strong>Termin:</strong><br/>Beginn: 24.05.2026\, 11:00 Uhr<br/>Ende:
  24.05.2026<br /><strong>Link:</strong><br/><a href='https://ortenaukultur
 .de/fr/evenements/detail/evenement/id/593897-begegnungen-brueder-zur-freih
 eit/?vt=1'>Page détaillée </a>
END:VEVENT
END:VCALENDAR
