BEGIN:VCALENDAR
VERSION:2.0
PRODID:-//ortenaukultur.de//NONSGML kigkonsult.se iCalcreator 2.41.92//
CALSCALE:GREGORIAN
METHOD:PUBLISH
UID:34636364-6262-4462-b164-363066313930
X-WR-TIMEZONE:Europe/Berlin
X-LIC-LOCATION:Europe/Berlin
BEGIN:VEVENT
UID:593916-kulturportal@ortenaukultur.de
DTSTAMP:20260421T224547Z
DESCRIPTION:Kurzbeschreibung:\n Malerei und Zeichnung Die Bilderfindung im 
 Augenblick des Machens gibt dem Künstler die Möglichkeit\, spontan zu über
 treiben und Visionen zu entwickeln.\n Ort:\n Foyer Klinik Paul-Gerhardt-We
 rk\, Louis-Pasteur Straße. 12\, Offenburg\n Veranstalter:\n KUNSTkommt\n T
 ermin:\n Beginn: 13.05.2026\n Ende: 13.05.2026\n Tickets:\n Eintritt frei
 \n Link:\n Page détaillée
DTSTART;TZID=Europe/Berlin:20260513T000000
DTEND;TZID=Europe/Berlin:20260513T030000
LOCATION:Foyer Klinik Paul-Gerhardt-Werk\, Louis-Pasteur Straße. 12\, Offen
 burg
SUMMARY:Rainer Braxmaier | Maßvolle Übertreibung\, Foyer Klinik Paul-Gerhar
 dt-Werk\, Louis-Pasteur Straße. 12
X-ALT-DESC;FMTTYPE=text/html:<strong>Kurzbeschreibung:</strong><br/>Malerei
  und Zeichnung\nDie Bilderfindung im Augenblick des Machens gibt dem Künst
 ler die Möglichkeit\, spontan zu übertreiben und Visionen zu entwickeln.\n
 \n\n\n<br /><strong>Ort:</strong><br/>Foyer Klinik Paul-Gerhardt-Werk\, Lo
 uis-Pasteur Straße. 12\, Offenburg<br /><strong>Veranstalter:</strong><br/
 >KUNSTkommt<br /><strong>Termin:</strong><br/>Beginn: 13.05.2026<br/>Ende:
  13.05.2026<br /><strong>Tickets: </strong><br/>Eintritt frei<br /><strong
 >Link:</strong><br/><a href='https://ortenaukultur.de/fr/evenements/detail
 /evenement/id/593916-rainer-braxmaier-massvolle-uebertreibung/?vt=1'>Page 
 détaillée </a>
END:VEVENT
END:VCALENDAR
