BEGIN:VCALENDAR
VERSION:2.0
PRODID:-//ortenaukultur.de//NONSGML kigkonsult.se iCalcreator 2.41.92//
CALSCALE:GREGORIAN
METHOD:PUBLISH
UID:38366330-6566-4565-a632-313437383934
X-WR-TIMEZONE:Europe/Berlin
X-LIC-LOCATION:Europe/Berlin
BEGIN:VEVENT
UID:595011-kulturportal@ortenaukultur.de
DTSTAMP:20260422T121120Z
DESCRIPTION:Kurzbeschreibung:\n Zum 40. Jubiläum des Kommunalen Kinos darf 
 der Publikumsliebling nicht fehlen\, der damals im LiFa Kino eine Quote vo
 n 366 Personen hatte\n Ort:\n KiK - Kultur in der Kaserne\n Weingartenstra
 ße 34 c\, 77654 Offenburg\n Veranstalter:\n KiK - Kultur in der Kaserne\n 
 Termin:\n Beginn: 15.05.2026\, 20:00 Uhr\n Ende: 15.05.2026\n Link:\n Page
  détaillée
DTSTART;TZID=Europe/Berlin:20260515T200000
DTEND;TZID=Europe/Berlin:20260515T230000
LOCATION:KiK - Kultur in der Kaserne\, Weingartenstraße 34 c\, 77654 Offenb
 urg
SUMMARY:40 Jahre Kommunales Kino: Film - Alexis Sorbas\, KiK - Kultur in de
 r Kaserne
X-ALT-DESC;FMTTYPE=text/html:<strong>Kurzbeschreibung:</strong><br/>Zum 40.
  Jubiläum des Kommunalen Kinos darf der Publikumsliebling nicht fehlen\, d
 er damals im LiFa Kino eine Quote von 366 Personen hatte <br /><strong>Ort
 :</strong><br/>KiK - Kultur in der Kaserne<br/>Weingartenstraße 34 c\, 776
 54 Offenburg<br /><strong>Veranstalter:</strong><br/>KiK - Kultur in der K
 aserne<br /><strong>Termin:</strong><br/>Beginn: 15.05.2026\, 20:00 Uhr<br
 />Ende: 15.05.2026<br /><strong>Link:</strong><br/><a href='https://ortena
 ukultur.de/fr/evenements/detail/evenement/id/595011-40-jahre-kommunales-ki
 no-film-alexis-sorbas/?vt=1'>Page détaillée </a>
END:VEVENT
END:VCALENDAR
