BEGIN:VCALENDAR
VERSION:2.0
PRODID:-//ortenaukultur.de//NONSGML kigkonsult.se iCalcreator 2.41.92//
CALSCALE:GREGORIAN
METHOD:PUBLISH
UID:32396332-3831-4530-b032-346464643336
X-WR-TIMEZONE:Europe/Berlin
X-LIC-LOCATION:Europe/Berlin
BEGIN:VEVENT
UID:595268-kulturportal@ortenaukultur.de
DTSTAMP:20260423T035455Z
DESCRIPTION:Kurzbeschreibung:\n Jazz\, Weltmusik und mutige Klangreisen. Ga
 leriekonzert welches Jazzimprovisation und farbenreicher Weltmusiktraditio
 n miteinander verbindet.\n Ort:\n Galerie Linda Treiber\n Münstertalstraße
  34\, 77955 Ettenheimmünster\n Veranstalter:\n Galerie Linda Treiber\n Ter
 min:\n Beginn: 06.05.2026\, 20:00 Uhr\n Ende: 06.05.2026\n Link:\n Page dé
 taillée
DTSTART;TZID=Europe/Berlin:20260506T200000
DTEND;TZID=Europe/Berlin:20260506T230000
LOCATION:Galerie Linda Treiber\, Münstertalstraße 34\, 77955 Ettenheimmünst
 er
SUMMARY:Wenn die Klivie blüht\, Galerie Linda Treiber
X-ALT-DESC;FMTTYPE=text/html:<strong>Kurzbeschreibung:</strong><br/>Jazz\, 
 Weltmusik und mutige Klangreisen. Galeriekonzert welches Jazzimprovisation
  und farbenreicher Weltmusiktradition miteinander verbindet.<br /><strong>
 Ort:</strong><br/>Galerie Linda Treiber<br/>Münstertalstraße 34\, 77955 Et
 tenheimmünster<br /><strong>Veranstalter:</strong><br/>Galerie Linda Treib
 er<br /><strong>Termin:</strong><br/>Beginn: 06.05.2026\, 20:00 Uhr<br/>En
 de: 06.05.2026<br /><strong>Link:</strong><br/><a href='https://ortenaukul
 tur.de/fr/evenements/detail/evenement/id/595268-wenn-die-klivie-blueht/?vt
 =1'>Page détaillée </a>
END:VEVENT
END:VCALENDAR
