BEGIN:VCALENDAR
VERSION:2.0
PRODID:-//ortenaukultur.de//NONSGML kigkonsult.se iCalcreator 2.41.92//
CALSCALE:GREGORIAN
METHOD:PUBLISH
UID:32616335-6538-4261-b438-633463383363
X-WR-TIMEZONE:Europe/Berlin
X-LIC-LOCATION:Europe/Berlin
BEGIN:VEVENT
UID:350823-kulturportal@ortenaukultur.de
DTSTAMP:20260422T223558Z
DESCRIPTION:Kurzbeschreibung:\n Der fast 700 Jahre alte Storchen turm ist d
 as Wahrzeichen der Stadt Zell am Harmersbach.\n Ort:\n Storchenturm Museum
 \n Kanzleiplatz\, 77736 Zell am Harmersbach\n Veranstalter:\n Kultur und S
 tadtmarketing\n Termin:\n Beginn: 02.04.2026\, 14:00 Uhr\n Ende: 02.04.202
 6\n Link:\n Page détaillée
DTSTART;TZID=Europe/Berlin:20260402T140000
DTEND;TZID=Europe/Berlin:20260402T170000
LOCATION:Storchenturm Museum\, Kanzleiplatz\, 77736 Zell am Harmersbach
SUMMARY:Storchenturm-Museum\, Storchenturm Museum
X-ALT-DESC;FMTTYPE=text/html:<strong>Kurzbeschreibung:</strong><br/>Der fas
 t 700 Jahre alte Storchen­turm ist das Wahrzeichen der Stadt Zell am Harme
 rsbach.<br /><strong>Ort:</strong><br/>Storchenturm Museum<br/>Kanzleiplat
 z\, 77736 Zell am Harmersbach<br /><strong>Veranstalter:</strong><br/>Kult
 ur und Stadtmarketing<br /><strong>Termin:</strong><br/>Beginn: 02.04.2026
 \, 14:00 Uhr<br/>Ende: 02.04.2026<br /><strong>Link:</strong><br/><a href=
 'https://ortenaukultur.de/fr/evenements/detail/evenement/id/350823-storche
 nturm-museum/?vt=1'>Page détaillée </a>
END:VEVENT
END:VCALENDAR
