BEGIN:VCALENDAR
VERSION:2.0
PRODID:-//ortenaukultur.de//NONSGML kigkonsult.se iCalcreator 2.41.92//
CALSCALE:GREGORIAN
METHOD:PUBLISH
UID:66383938-3136-4236-a566-333239303331
X-WR-TIMEZONE:Europe/Berlin
X-LIC-LOCATION:Europe/Berlin
BEGIN:VEVENT
UID:492977-kulturportal@ortenaukultur.de
DTSTAMP:20260422T000547Z
DESCRIPTION:Kurzbeschreibung:\n Täglich Spannende Führungen unter Tage biet
 et das Besucherbergwerk Grube Wenzel in Oberwolfach.\n Ort:\n Besucherberg
 werk Grube Wenzel\n Frohnbach 19\, 77709 Oberwolfach\n Veranstalter:\n Gem
 einde Oberwolfach\n Termin:\n Beginn: 14.04.2026\n Ende: 14.04.2026\n Link
 :\n Page détaillée
DTSTART;TZID=Europe/Berlin:20260414T000000
DTEND;TZID=Europe/Berlin:20260414T030000
LOCATION:Besucherbergwerk Grube Wenzel\, Frohnbach 19\, 77709 Oberwolfach
SUMMARY:Führungen durch das Besucherbergwerk Grube Wenzel in Oberwolfach\, 
 Besucherbergwerk Grube Wenzel
X-ALT-DESC;FMTTYPE=text/html:<strong>Kurzbeschreibung:</strong><br/>Täglich
  Spannende Führungen unter Tage bietet das Besucherbergwerk Grube Wenzel i
 n Oberwolfach.<br /><strong>Ort:</strong><br/>Besucherbergwerk Grube Wenze
 l<br/>Frohnbach 19\, 77709  Oberwolfach<br /><strong>Veranstalter:</strong
 ><br/>Gemeinde Oberwolfach<br /><strong>Termin:</strong><br/>Beginn: 14.04
 .2026<br/>Ende: 14.04.2026<br /><strong>Link:</strong><br/><a href='https:
 //ortenaukultur.de/fr/evenements/detail/evenement/id/492977-fuehrungen-dur
 ch-das-besucherbergwerk-grube-wenzel-in-oberwolfach/?vt=1'>Page détaillée 
 </a>
END:VEVENT
END:VCALENDAR
