BEGIN:VCALENDAR
VERSION:2.0
PRODID:-//ortenaukultur.de//NONSGML kigkonsult.se iCalcreator 2.41.92//
CALSCALE:GREGORIAN
METHOD:PUBLISH
UID:61323534-3631-4435-b266-623839383063
X-WR-TIMEZONE:Europe/Berlin
X-LIC-LOCATION:Europe/Berlin
BEGIN:VEVENT
UID:514512-kulturportal@ortenaukultur.de
DTSTAMP:20260423T041248Z
DESCRIPTION:Kurzbeschreibung:\n Fachkundige Führung durch den zauberhaften 
 Stadtpark. Nicht nur die jahrhunderte alten Bäume haben viel zu erzählen\,
  die Gästeführer Ihnen auch.\n Blitzinfo:\n Treffpunkt Eingang Stadtpark\n
  Ort:\n Stadtpark Lahr\, Treffpunkt Haupteingang\, Kaiserstr. 103\n Kaiser
 straße 107\, 77933 Lahr\n Veranstalter:\n Stadt Lahr\n Termin:\n Beginn: 0
 2.08.2026\, 15:00 Uhr\n Ende: 02.08.2026\n Tickets:\n \n https://erlebe.la
 hr.de/oeffentliche-fuehrungen-buchen.274465.htm#/experience/FIT00020072495
 524881\n Die Führung 5\,00 € pro Person + Parkeintritt (Erw. 4\,00 €\, Kin
 der 1\,50 €).\n Die Führung 60\,00€ pro Gruppe+ Parkeintritt / max. 25 Per
 sonen\n Ganzjährig individuell buchbar\n \n Link:\n Page détaillée
DTSTART;TZID=Europe/Berlin:20260802T150000
DTEND;TZID=Europe/Berlin:20260802T180000
LOCATION:Stadtpark Lahr\, Treffpunkt Haupteingang\, Kaiserstr. 103\, Kaiser
 straße 107\, 77933 Lahr
SUMMARY:Stadtparkführung - Farbenpracht das ganze Jahr\, Stadtpark
X-ALT-DESC;FMTTYPE=text/html:<strong>Kurzbeschreibung:</strong><br/>Fachkun
 dige Führung durch den zauberhaften Stadtpark. Nicht nur die jahrhunderte 
 alten Bäume haben viel zu erzählen\, die Gästeführer Ihnen auch.\n\n<br />
 <strong>Blitzinfo:</strong><br/>Treffpunkt Eingang Stadtpark<br /><strong>
 Ort:</strong><br/>Stadtpark Lahr\, Treffpunkt Haupteingang\, Kaiserstr. 10
 3<br/>Kaiserstraße 107\, 77933 Lahr<br /><strong>Veranstalter:</strong><br
 />Stadt Lahr<br /><strong>Termin:</strong><br/>Beginn: 02.08.2026\, 15:00 
 Uhr<br/>Ende: 02.08.2026<br /><strong>Tickets: </strong><br/><a  class='wc
 o_cb_subtitle_link'  id='ticketlink'  href='https://erlebe.lahr.de/oeffent
 liche-fuehrungen-buchen.274465.htm#/experience/FIT00020072495524881' targe
 t='_blank' title='Öffnet externen Link in einem neuen Fenster'></a><br/>ht
 tps://erlebe.lahr.de/oeffentliche-fuehrungen-buchen.274465.htm#/experience
 /FIT00020072495524881<br/>Die Führung 5\,00 €   pro Person + Parkeintritt 
 (Erw. 4\,00 €\, Kinder 1\,50 €). <br />\nDie Führung 60\,00€ pro Gruppe+ P
 arkeintritt / max. 25 Personen<br />\nGanzjährig individuell buchbar<br />
 \n<br /><strong>Link:</strong><br/><a href='https://ortenaukultur.de/fr/ev
 enements/detail/evenement/id/514512-stadtparkfuehrung-farbenpracht-das-gan
 ze-jahr/?vt=1'>Page détaillée </a>
END:VEVENT
END:VCALENDAR
