BEGIN:VCALENDAR
VERSION:2.0
PRODID:-//ortenaukultur.de//NONSGML kigkonsult.se iCalcreator 2.41.92//
CALSCALE:GREGORIAN
METHOD:PUBLISH
UID:30333936-3937-4638-b536-323466333332
X-WR-TIMEZONE:Europe/Berlin
X-LIC-LOCATION:Europe/Berlin
BEGIN:VEVENT
UID:568507-kulturportal@ortenaukultur.de
DTSTAMP:20260422T225936Z
DESCRIPTION:Kurzbeschreibung:\n Weltmusik Alejandro Carrillo – Violine\, Ge
 sang Fabian Zeller - Gitarre\n Ort:\n Stadthalle - Bühne\n Großherzog-Frie
 drich-Str. 19\, 77694 Kehl\n Veranstalter:\n Kulturbüro Kehl\n Termin:\n B
 eginn: 28.04.2026\n Ende: 28.04.2026\n Tickets:\n Achat de billets\n https
 ://ortenaukultur.reservix.de/p/reservix/event/2408591\n 1. Kategorie:\n ju
 squ'à 18\,60 € + Réduction\n *Toute taxe comprise\n \n Link:\n Page détail
 lée
DTSTART;TZID=Europe/Berlin:20260428T000000
DTEND;TZID=Europe/Berlin:20260428T030000
LOCATION:Stadthalle - Bühne\, Großherzog-Friedrich-Str. 19\, 77694 Kehl
SUMMARY:Passerelles // Duo Resonado \, Stadthalle - Bühne
X-ALT-DESC;FMTTYPE=text/html:<strong>Kurzbeschreibung:</strong><br/>Weltmus
 ik\nAlejandro Carrillo – Violine\, Gesang\nFabian Zeller - Gitarre<br /><s
 trong>Ort:</strong><br/>Stadthalle - Bühne<br/>Großherzog-Friedrich-Str. 1
 9\, 77694 Kehl<br /><strong>Veranstalter:</strong><br/>Kulturbüro Kehl<br 
 /><strong>Termin:</strong><br/>Beginn: 28.04.2026<br/>Ende: 28.04.2026<br 
 /><strong>Tickets: </strong><br/><a rel='asdf' href='https://ortenaukultur
 .de/fr/evenements/enfants-jeunes/detail/billets/id/568507-passerelles-duo-
 resonado/?follow=https%253A%252F%252Fortenaukultur.reservix.de%252Fp%252Fr
 eservix%252Fevent%252F2408591' target='_blank' title='' id='ticketlink'>Ac
 hat de billets</a><br/>https://ortenaukultur.reservix.de/p/reservix/event/
 2408591<br/><b>1. Kategorie: </b><br />jusqu&#039\;à 18\,60 &euro\;&nbsp\;
  + Réduction<br />*Toute taxe comprise<br /><br /><strong>Link:</strong><b
 r/><a href='https://ortenaukultur.de/fr/evenements/detail/evenement/id/568
 507-passerelles-duo-resonado/?vt=1'>Page détaillée </a>
END:VEVENT
END:VCALENDAR
