BEGIN:VCALENDAR
VERSION:2.0
PRODID:-//ortenaukultur.de//NONSGML kigkonsult.se iCalcreator 2.41.92//
CALSCALE:GREGORIAN
METHOD:PUBLISH
UID:35646664-3862-4836-a332-333666306261
X-WR-TIMEZONE:Europe/Berlin
X-LIC-LOCATION:Europe/Berlin
BEGIN:VEVENT
UID:570539-kulturportal@ortenaukultur.de
DTSTAMP:20260423T003810Z
DESCRIPTION:Kurzbeschreibung:\n Brasilianischer Jazz\, Bossa Nova und Choro
  Mit: Marcia Bittencourt\, Daniel Schay & Friends\n Ort:\n Reithalle im Ku
 lturforum\n Moltkestraße 31\, 77654 Offenburg\n Veranstalter:\n Frau Antje
  Haury\, Abteilungssleitung\, 8.1 Kulturbüro Offenburg\n Termin:\n Beginn:
  30.04.2026\, 20:00 Uhr\n Ende: 30.04.2026\n Tickets:\n Achat de billets\n
  https://ortenaukultur.reservix.de/p/reservix/event/2397493\n 1. Kategorie
 :\n jusqu'à 20\,80 € + Réduction\n *Toute taxe comprise\n \n Link:\n Page 
 détaillée
DTSTART;TZID=Europe/Berlin:20260430T200000
DTEND;TZID=Europe/Berlin:20260430T230000
LOCATION:Reithalle im Kulturforum\, Moltkestraße 31\, 77654 Offenburg
SUMMARY:Jazzclub 61\, Reithalle im Kulturforum
X-ALT-DESC;FMTTYPE=text/html:<strong>Kurzbeschreibung:</strong><br/>Brasili
 anischer Jazz\, Bossa Nova und Choro\n\nMit:\nMarcia Bittencourt\, Daniel 
 Schay & Friends<br /><strong>Ort:</strong><br/>Reithalle im Kulturforum<br
 />Moltkestraße 31\, 77654 Offenburg<br /><strong>Veranstalter:</strong><br
 />Frau Antje Haury\, Abteilungssleitung\, 8.1 Kulturbüro Offenburg<br /><s
 trong>Termin:</strong><br/>Beginn: 30.04.2026\, 20:00 Uhr<br/>Ende: 30.04.
 2026<br /><strong>Tickets: </strong><br/><a rel='asdf' href='https://orten
 aukultur.de/fr/evenements/enfants-jeunes/detail/billets/id/570539-jazzclub
 -61/?follow=https%253A%252F%252Fortenaukultur.reservix.de%252Fp%252Freserv
 ix%252Fevent%252F2397493' target='_blank' title='' id='ticketlink'>Achat d
 e billets</a><br/>https://ortenaukultur.reservix.de/p/reservix/event/23974
 93<br/><b>1. Kategorie: </b><br />jusqu&#039\;à 20\,80 &euro\;&nbsp\; + Ré
 duction<br />*Toute taxe comprise<br /><br /><strong>Link:</strong><br/><a
  href='https://ortenaukultur.de/fr/evenements/detail/evenement/id/570539-j
 azzclub-61/?vt=1'>Page détaillée </a>
END:VEVENT
END:VCALENDAR
