BEGIN:VCALENDAR
VERSION:2.0
PRODID:-//ortenaukultur.de//NONSGML kigkonsult.se iCalcreator 2.41.92//
CALSCALE:GREGORIAN
METHOD:PUBLISH
UID:33623065-6233-4433-a334-646432656265
X-WR-TIMEZONE:Europe/Berlin
X-LIC-LOCATION:Europe/Berlin
BEGIN:VEVENT
UID:570962-kulturportal@ortenaukultur.de
DTSTAMP:20260422T013310Z
DESCRIPTION:Kurzbeschreibung:\n Lesenacht in der Stadtbibliothek - Übernach
 ten zwischen den Bücherregalen.\n Ort:\n Stadtbibliothek Offenburg\, Offen
 burg\n Veranstalter:\n Stadtbibliothek Offenburg\n Termin:\n Beginn: 21.08
 .2026\, 19:00 Uhr\n Ende: 21.08.2026\n Link:\n Page détaillée
DTSTART;TZID=Europe/Berlin:20260821T190000
DTEND;TZID=Europe/Berlin:20260821T220000
LOCATION:Stadtbibliothek Offenburg\, Offenburg
SUMMARY:Ferienspass - Bibliotheksübernachtung\, Stadtbibliothek Offenburg
X-ALT-DESC;FMTTYPE=text/html:<strong>Kurzbeschreibung:</strong><br/>Lesenac
 ht in der Stadtbibliothek - Übernachten zwischen den Bücherregalen.<br /><
 strong>Ort:</strong><br/>Stadtbibliothek Offenburg\, Offenburg<br /><stron
 g>Veranstalter:</strong><br/>Stadtbibliothek Offenburg<br /><strong>Termin
 :</strong><br/>Beginn: 21.08.2026\, 19:00 Uhr<br/>Ende: 21.08.2026<br /><s
 trong>Link:</strong><br/><a href='https://ortenaukultur.de/fr/evenements/d
 etail/evenement/id/570962-ferienspass-bibliotheksuebernachtung/?vt=1'>Page
  détaillée </a>
END:VEVENT
END:VCALENDAR
