BEGIN:VCALENDAR
VERSION:2.0
PRODID:-//ortenaukultur.de//NONSGML kigkonsult.se iCalcreator 2.41.92//
CALSCALE:GREGORIAN
METHOD:PUBLISH
UID:64633239-6463-4635-a132-633937323932
X-WR-TIMEZONE:Europe/Berlin
X-LIC-LOCATION:Europe/Berlin
BEGIN:VEVENT
UID:583301-kulturportal@ortenaukultur.de
DTSTAMP:20260422T063402Z
DESCRIPTION:Kurzbeschreibung:\n Aufführung der 'Großen Theater AG' des RGG 
 im Rahmen des Hausacher Leselenz\n Ort:\n Aula des RGG\n Gustav-Rivinius-P
 latz 3\, 77756 Hausach\n Veranstalter:\n Theater AG des RGG\n Termin:\n Be
 ginn: 15.07.2026\, 20:00 Uhr\n Ende: 15.07.2026\n Link:\n Page détaillée
DTSTART;TZID=Europe/Berlin:20260715T200000
DTEND;TZID=Europe/Berlin:20260715T230000
LOCATION:Aula des RGG\, Gustav-Rivinius-Platz 3\, 77756 Hausach
SUMMARY:Aufführung der 'Großen Theater AG' des RGG\, Stadthalle
X-ALT-DESC;FMTTYPE=text/html:<strong>Kurzbeschreibung:</strong><br/>Aufführ
 ung der 'Großen Theater AG' des RGG im Rahmen des Hausacher Leselenz<br />
 <strong>Ort:</strong><br/>Aula des RGG<br/>Gustav-Rivinius-Platz 3\, 77756
  Hausach<br /><strong>Veranstalter:</strong><br/>Theater AG des RGG<br /><
 strong>Termin:</strong><br/>Beginn: 15.07.2026\, 20:00 Uhr<br/>Ende: 15.07
 .2026<br /><strong>Link:</strong><br/><a href='https://ortenaukultur.de/fr
 /evenements/detail/evenement/id/583301-auffuehrung-der-grossen-theater-ag-
 des-rgg/?vt=1'>Page détaillée </a>
END:VEVENT
END:VCALENDAR
