BEGIN:VCALENDAR
VERSION:2.0
PRODID:-//ortenaukultur.de//NONSGML kigkonsult.se iCalcreator 2.41.92//
CALSCALE:GREGORIAN
METHOD:PUBLISH
UID:39636439-3661-4261-b130-353036363030
X-WR-TIMEZONE:Europe/Berlin
X-LIC-LOCATION:Europe/Berlin
BEGIN:VEVENT
UID:584406-kulturportal@ortenaukultur.de
DTSTAMP:20260421T172218Z
DESCRIPTION:Kurzbeschreibung:\n Märchenstunde mit Katrin Bamberg im Rahmen 
 der Ausstellung 'Drecksarbei - Der Mikrokosmos unter unseren Füßen'. Ab 4 
 Jahren\n Ort:\n Das Kulturhaus.\n Am Läger 12\, 77694 Kehl\n Veranstalter:
 \n Kulturbüro Kehl\n Termin:\n Beginn: 12.05.2026\, 10:30 Uhr\n Ende: 12.0
 5.2026\n Tickets:\n Achat de billets\n https://ortenaukultur.reservix.de/p
 /reservix/event/2519818\n Einheitspreis:\n 4\,30 €\n *Toute taxe comprise
 \n \n Link:\n Page détaillée
DTSTART;TZID=Europe/Berlin:20260512T103000
DTEND;TZID=Europe/Berlin:20260512T133000
LOCATION:Das Kulturhaus.\, Am Läger 12\, 77694 Kehl
SUMMARY:Willkommen in der Welt unter unseren Füßen (2)\, Das Kulturhaus.
X-ALT-DESC;FMTTYPE=text/html:<strong>Kurzbeschreibung:</strong><br/>Märchen
 stunde mit Katrin Bamberg im Rahmen der Ausstellung 'Drecksarbei - Der Mik
 rokosmos unter unseren Füßen'. Ab 4 Jahren<br /><strong>Ort:</strong><br/>
 Das Kulturhaus.<br/>Am Läger 12\, 77694 Kehl<br /><strong>Veranstalter:</s
 trong><br/>Kulturbüro Kehl<br /><strong>Termin:</strong><br/>Beginn: 12.05
 .2026\, 10:30 Uhr<br/>Ende: 12.05.2026<br /><strong>Tickets: </strong><br/
 ><a rel='asdf' href='https://ortenaukultur.de/fr/evenements/enfants-jeunes
 /detail/billets/id/584406-willkommen-in-der-welt-unter-unseren-fuessen-2/?
 follow=https%253A%252F%252Fortenaukultur.reservix.de%252Fp%252Freservix%25
 2Fevent%252F2519818' target='_blank' title='' id='ticketlink'>Achat de bil
 lets</a><br/>https://ortenaukultur.reservix.de/p/reservix/event/2519818<br
 /><b>Einheitspreis: </b><br />4\,30 &euro\;<br />*Toute taxe comprise<br /
 ><br /><strong>Link:</strong><br/><a href='https://ortenaukultur.de/fr/eve
 nements/detail/evenement/id/584406-willkommen-in-der-welt-unter-unseren-fu
 essen-2/?vt=1'>Page détaillée </a>
END:VEVENT
END:VCALENDAR
