BEGIN:VCALENDAR
VERSION:2.0
PRODID:-//ortenaukultur.de//NONSGML kigkonsult.se iCalcreator 2.41.92//
CALSCALE:GREGORIAN
METHOD:PUBLISH
UID:37306564-6132-4366-b335-616663643732
X-WR-TIMEZONE:Europe/Berlin
X-LIC-LOCATION:Europe/Berlin
BEGIN:VEVENT
UID:584459-kulturportal@ortenaukultur.de
DTSTAMP:20260421T233807Z
DESCRIPTION:Kurzbeschreibung:\n Nähere Informationen werden über die Ferien
 programme der Gemeinden\, die Tagespresse und den E-Mail-Newsletter bekann
 t gegeben.\n Ort:\n Ettenheim\n Münstertalstraße\, 77955 Ettenheim\n Veran
 stalter:\n Schwarzwaldverein\n Termin:\n Beginn: 15.08.2026\n Ende: 15.08.
 2026\n Link:\n Page détaillée
DTSTART;TZID=Europe/Berlin:20260815T000000
DTEND;TZID=Europe/Berlin:20260815T030000
LOCATION:Ettenheim\, Münstertalstraße\, 77955 Ettenheim
SUMMARY:Ferienprogramm - Naturschutz\, Ettenheimmünster
X-ALT-DESC;FMTTYPE=text/html:<strong>Kurzbeschreibung:</strong><br/>Nähere 
 Informationen werden über die Ferienprogramme der Gemeinden\,\ndie Tagespr
 esse und den E-Mail-Newsletter bekannt gegeben.<br /><strong>Ort:</strong>
 <br/>Ettenheim<br/>Münstertalstraße\, 77955 Ettenheim<br /><strong>Veranst
 alter:</strong><br/>Schwarzwaldverein<br /><strong>Termin:</strong><br/>Be
 ginn: 15.08.2026<br/>Ende: 15.08.2026<br /><strong>Link:</strong><br/><a h
 ref='https://ortenaukultur.de/fr/evenements/detail/evenement/id/584459-fer
 ienprogramm-naturschutz/?vt=1'>Page détaillée </a>
END:VEVENT
END:VCALENDAR
