BEGIN:VCALENDAR
VERSION:2.0
PRODID:-//ortenaukultur.de//NONSGML kigkonsult.se iCalcreator 2.41.92//
CALSCALE:GREGORIAN
METHOD:PUBLISH
UID:30376365-3032-4461-b162-633137333133
X-WR-TIMEZONE:Europe/Berlin
X-LIC-LOCATION:Europe/Berlin
BEGIN:VEVENT
UID:588430-kulturportal@ortenaukultur.de
DTSTAMP:20260422T012535Z
DESCRIPTION:Kurzbeschreibung:\n Ein Abenteuer des Hasen Hibiskus für kleine
  und große Fußballfans mit Spannung bis zur letzten Seite!\n Ort:\n Stadtb
 ibliothek Offenburg\n Weingartenstr. 32/34\, 77654 Offenburg\n Veranstalte
 r:\n Stadtbibliothek Offenburg\n Termin:\n Beginn: 03.06.2026\, 15:00 Uhr
 \n Ende: 03.06.2026\n Link:\n Page détaillée
DTSTART;TZID=Europe/Berlin:20260603T150000
DTEND;TZID=Europe/Berlin:20260603T180000
LOCATION:Stadtbibliothek Offenburg \, Weingartenstr. 32/34\, 77654 Offenbur
 g
SUMMARY:Vorlesestunde 'Hase Hibiskus und die Fußball-Waldmeisterschaft'\, S
 tadtbibliothek Offenburg
X-ALT-DESC;FMTTYPE=text/html:<strong>Kurzbeschreibung:</strong><br/>Ein Abe
 nteuer des Hasen Hibiskus für kleine und große Fußballfans mit Spannung bi
 s zur letzten Seite! <br /><strong>Ort:</strong><br/>Stadtbibliothek Offen
 burg <br/>Weingartenstr. 32/34\, 77654 Offenburg<br /><strong>Veranstalter
 :</strong><br/>Stadtbibliothek Offenburg<br /><strong>Termin:</strong><br/
 >Beginn: 03.06.2026\, 15:00 Uhr<br/>Ende: 03.06.2026<br /><strong>Link:</s
 trong><br/><a href='https://ortenaukultur.de/fr/evenements/detail/evenemen
 t/id/588430-vorlesestunde-hase-hibiskus-und-die-fussball-waldmeisterschaft
 /?vt=1'>Page détaillée </a>
END:VEVENT
END:VCALENDAR
