BEGIN:VCALENDAR
VERSION:2.0
PRODID:-//ortenaukultur.de//NONSGML kigkonsult.se iCalcreator 2.41.92//
CALSCALE:GREGORIAN
METHOD:PUBLISH
UID:39353334-3339-4130-a465-356232373033
X-WR-TIMEZONE:Europe/Berlin
X-LIC-LOCATION:Europe/Berlin
BEGIN:VEVENT
UID:589104-kulturportal@ortenaukultur.de
DTSTAMP:20260421T234240Z
DESCRIPTION:Kurzbeschreibung:\n Das große Familienfest auf dem Kulturforum 
 - Gemeinsam Kultur\, Freude und Vielfalt erleben\n Ort:\n Platz der Verfas
 sungsfreunde / Kulturforum\n Aenne-Burda-Allee\, 77654 Offenburg\n Veranst
 alter:\n Kulturbüro Offenburg\n Termin:\n Beginn: 26.07.2026\, 10:00 Uhr\n
  Ende: 26.07.2026\n Link:\n Page détaillée
DTSTART;TZID=Europe/Berlin:20260726T100000
DTEND;TZID=Europe/Berlin:20260726T130000
LOCATION:Platz der Verfassungsfreunde / Kulturforum\, Aenne-Burda-Allee\, 7
 7654 Offenburg
SUMMARY:Familienfest - Offenburg feiert\, Platz der Verfassungsfreunde / Ku
 lturforum
X-ALT-DESC;FMTTYPE=text/html:<strong>Kurzbeschreibung:</strong><br/>Das gro
 ße Familienfest auf dem Kulturforum - Gemeinsam Kultur\, Freude und Vielfa
 lt erleben                                  <br /><strong>Ort:</strong><br
 />Platz der Verfassungsfreunde / Kulturforum<br/>Aenne-Burda-Allee\, 77654
  Offenburg<br /><strong>Veranstalter:</strong><br/>Kulturbüro Offenburg<br
  /><strong>Termin:</strong><br/>Beginn: 26.07.2026\, 10:00 Uhr<br/>Ende: 2
 6.07.2026<br /><strong>Link:</strong><br/><a href='https://ortenaukultur.d
 e/fr/evenements/detail/evenement/id/589104-familienfest-offenburg-feiert/?
 vt=1'>Page détaillée </a>
END:VEVENT
END:VCALENDAR
