BEGIN:VCALENDAR
VERSION:2.0
PRODID:-//ortenaukultur.de//NONSGML kigkonsult.se iCalcreator 2.41.92//
CALSCALE:GREGORIAN
METHOD:PUBLISH
UID:63643033-6436-4930-a237-656332653533
X-WR-TIMEZONE:Europe/Berlin
X-LIC-LOCATION:Europe/Berlin
BEGIN:VEVENT
UID:590253-kulturportal@ortenaukultur.de
DTSTAMP:20260421T172040Z
DESCRIPTION:Kurzbeschreibung:\n Kurs für Kinder von 7 - 16 Jahren in der ar
 chäologischen Abteilung des Ritterhauses\n Ort:\n Museum im Ritterhaus\n R
 itterstr. 10\, 77652 Offenburg\n Veranstalter:\n Museum im Ritterhaus Offe
 nburg\n Termin:\n Beginn: 29.04.2026\, 15:00 Uhr\n Ende: 29.04.2026\n Link
 :\n Page détaillée
DTSTART;TZID=Europe/Berlin:20260429T150000
DTEND;TZID=Europe/Berlin:20260429T180000
LOCATION:Museum im Ritterhaus\, Ritterstr. 10\, 77652 Offenburg
SUMMARY:Von Mammuts und Faustkeilen\, Museum im Ritterhaus
X-ALT-DESC;FMTTYPE=text/html:<strong>Kurzbeschreibung:</strong><br/>Kurs fü
 r Kinder von 7 - 16 Jahren in der archäologischen Abteilung des Ritterhaus
 es<br /><strong>Ort:</strong><br/>Museum im Ritterhaus<br/>Ritterstr. 10\,
  77652 Offenburg<br /><strong>Veranstalter:</strong><br/>Museum im Ritterh
 aus Offenburg<br /><strong>Termin:</strong><br/>Beginn: 29.04.2026\, 15:00
  Uhr<br/>Ende: 29.04.2026<br /><strong>Link:</strong><br/><a href='https:/
 /ortenaukultur.de/fr/evenements/detail/evenement/id/590253-von-mammuts-und
 -faustkeilen/?vt=1'>Page détaillée </a>
END:VEVENT
END:VCALENDAR
