BEGIN:VCALENDAR
VERSION:2.0
PRODID:-//ortenaukultur.de//NONSGML kigkonsult.se iCalcreator 2.41.92//
CALSCALE:GREGORIAN
METHOD:PUBLISH
UID:61393030-3538-4435-a363-613662646262
X-WR-TIMEZONE:Europe/Berlin
X-LIC-LOCATION:Europe/Berlin
BEGIN:VEVENT
UID:590623-kulturportal@ortenaukultur.de
DTSTAMP:20260422T013419Z
DESCRIPTION:Kurzbeschreibung:\n Ferienspaß-Kurs für Kinder von 10-15 Jahren
  in der Naturkundeabteilung\n Ort:\n Museum im Ritterhaus\n Ritterstr. 10\
 , 77652 Offenburg\n Veranstalter:\n Museum im Ritterhaus Offenburg\n Termi
 n:\n Beginn: 12.08.2026\, 10:30 Uhr\n Ende: 12.08.2026\n Link:\n Page déta
 illée
DTSTART;TZID=Europe/Berlin:20260812T103000
DTEND;TZID=Europe/Berlin:20260812T133000
LOCATION:Museum im Ritterhaus\, Ritterstr. 10\, 77652 Offenburg
SUMMARY:Naturkunde-Podcast\, Museum im Ritterhaus
X-ALT-DESC;FMTTYPE=text/html:<strong>Kurzbeschreibung:</strong><br/>Feriens
 paß-Kurs für Kinder von 10-15 Jahren in der Naturkundeabteilung<br /><stro
 ng>Ort:</strong><br/>Museum im Ritterhaus<br/>Ritterstr. 10\, 77652 Offenb
 urg<br /><strong>Veranstalter:</strong><br/>Museum im Ritterhaus Offenburg
 <br /><strong>Termin:</strong><br/>Beginn: 12.08.2026\, 10:30 Uhr<br/>Ende
 : 12.08.2026<br /><strong>Link:</strong><br/><a href='https://ortenaukultu
 r.de/fr/evenements/detail/evenement/id/590623-naturkunde-podcast/?vt=1'>Pa
 ge détaillée </a>
END:VEVENT
END:VCALENDAR
