BEGIN:VCALENDAR
VERSION:2.0
PRODID:-//ortenaukultur.de//NONSGML kigkonsult.se iCalcreator 2.41.92//
CALSCALE:GREGORIAN
METHOD:PUBLISH
UID:37303561-3430-4462-a531-366234306537
X-WR-TIMEZONE:Europe/Berlin
X-LIC-LOCATION:Europe/Berlin
BEGIN:VEVENT
UID:590691-kulturportal@ortenaukultur.de
DTSTAMP:20260422T012540Z
DESCRIPTION:Kurzbeschreibung:\n Kurs für Kinder von 4 - 5 Jahren in der nat
 urkundlichen Abteilung des Ritterhauses\n Ort:\n Museum im Ritterhaus\n Ri
 tterstr. 10\, 77652 Offenburg\n Veranstalter:\n Museum im Ritterhaus Offen
 burg\n Termin:\n Beginn: 15.07.2026\, 15:00 Uhr\n Ende: 15.07.2026\n Link:
 \n Page détaillée
DTSTART;TZID=Europe/Berlin:20260715T150000
DTEND;TZID=Europe/Berlin:20260715T180000
LOCATION:Museum im Ritterhaus\, Ritterstr. 10\, 77652 Offenburg
SUMMARY:Waldtiersafari für die Kleinen\, Museum im Ritterhaus
X-ALT-DESC;FMTTYPE=text/html:<strong>Kurzbeschreibung:</strong><br/>Kurs fü
 r Kinder von 4 - 5 Jahren in der naturkundlichen Abteilung des Ritterhause
 s<br /><strong>Ort:</strong><br/>Museum im Ritterhaus<br/>Ritterstr. 10\, 
 77652 Offenburg<br /><strong>Veranstalter:</strong><br/>Museum im Ritterha
 us Offenburg<br /><strong>Termin:</strong><br/>Beginn: 15.07.2026\, 15:00 
 Uhr<br/>Ende: 15.07.2026<br /><strong>Link:</strong><br/><a href='https://
 ortenaukultur.de/fr/evenements/detail/evenement/id/590691-waldtiersafari-f
 uer-die-kleinen/?vt=1'>Page détaillée </a>
END:VEVENT
END:VCALENDAR
